BEGIN:VCALENDAR
VERSION:2.0
PRODID:-//Yoga Australia - ECPv6.13.1//NONSGML v1.0//EN
CALSCALE:GREGORIAN
METHOD:PUBLISH
X-WR-CALNAME:Yoga Australia
X-ORIGINAL-URL:https://yogaaustralia.org.au
X-WR-CALDESC:Events for Yoga Australia
REFRESH-INTERVAL;VALUE=DURATION:PT1H
X-Robots-Tag:noindex
X-PUBLISHED-TTL:PT1H
BEGIN:VTIMEZONE
TZID:Australia/Melbourne
BEGIN:STANDARD
TZOFFSETFROM:+1100
TZOFFSETTO:+1000
TZNAME:AEST
DTSTART:20240406T160000
END:STANDARD
BEGIN:DAYLIGHT
TZOFFSETFROM:+1000
TZOFFSETTO:+1100
TZNAME:AEDT
DTSTART:20241005T160000
END:DAYLIGHT
BEGIN:STANDARD
TZOFFSETFROM:+1100
TZOFFSETTO:+1000
TZNAME:AEST
DTSTART:20250405T160000
END:STANDARD
BEGIN:DAYLIGHT
TZOFFSETFROM:+1000
TZOFFSETTO:+1100
TZNAME:AEDT
DTSTART:20251004T160000
END:DAYLIGHT
END:VTIMEZONE
BEGIN:VEVENT
DTSTART;TZID=Australia/Melbourne:20241127T080000
DTEND;TZID=Australia/Melbourne:20251130T170000
DTSTAMP:20260424T001625
CREATED:20230523T131513Z
LAST-MODIFIED:20241127T051821Z
UID:10000355-1732694400-1764522000@yogaaustralia.org.au
SUMMARY:Find Balance through Sound (self paced)
DESCRIPTION:Self Paced event. Find a deeper connection to stillness and life through the yoga of sound. Chanting is known to: Increase breath control\n\nInfluence heart rate\n\nLower blood pressure\n\nEase muscle tension\n\nImprove digestion\n\nReduce pain and assist healing\n\nActivate different part of the brain\n\nStimulate learning and memory\n\nHelp us focus on positive words and phrases\, involving gratitude and peace\n\nUnite people and enhance a sense of connection with others\n\nHelp prepare for pranayama\, meditation or prayer\n\nMay reduce snoring by toning the muscles of the throatThrough practice\, we draw senses inward to quiet the mind. In this stillness\, we can experience more subtle aspects of being that resides beyond the mind; a oneness and wholeness with all of life and a sense of profound peace. Mantra is a reminder to treat our words as sacred\, creative and divine.   What we think and say\, we create.  Inspired by Deepak Chopra’s ‘Seven Spiritual Laws of Success’\, these 10-15 minute seated practices offer reflection\, self enquiry\, connection and stillness through mantra repetition (japa) and meditation.  There are 7 recordings in this series which run through my ‘Radiant Wellbeing’ APP so you can practice anywhere\, anytime.
URL:https://yogaaustralia.org.au/event-course/find-balance-through-sound-self-paced/
LOCATION:NSW
CATEGORIES:Events,Online,Short Course (1 week or more)
ATTACH;FMTTYPE=image/jpeg:https://yogaaustralia.org.au/wp-content/uploads/2023/05/iStock-1253659086-300x225-1.jpg
ORGANIZER;CN="Gabrielle Boswell":MAILTO:gabrielle@yogawithgabrielle.com.au
END:VEVENT
BEGIN:VEVENT
DTSTART;TZID=Australia/Melbourne:20241127T080000
DTEND;TZID=Australia/Melbourne:20251130T170000
DTSTAMP:20260424T001625
CREATED:20230523T131815Z
LAST-MODIFIED:20241127T050311Z
UID:10000356-1732694400-1764522000@yogaaustralia.org.au
SUMMARY:iRest yoga nidra 6 week short course (self paced)
DESCRIPTION:This deep relaxation course will introduce you to a modern system of yoga nidra practice which can assist in the promotion of physical and mental health and wellbeing. iRest Integrative Restoration is a form of meditative self-inquiry stemming from the teachings of Yoga which can assist in promoting deep relaxation throughout mind and body. The iRest approach has been the subject of significant research and found valuable in the treatment of insomnia\, trauma\, anxiety\, depression\, anger management\, and chronic pain. iRest nourishes qualities such as joy\, peacefulness\, empathy\, forgiveness\, patience and loving kindness towards yourself and others. iRest practices directly address the way you respond to your thoughts and emotions\, enabling you to recognise the innate peace of mind which can be present amidst all of life’s challenging circumstances. You will receive  – weekly 15-20 minute pre-recorded video lectures plus a 20-35 minute iRest audio practice\n\naccess to the course via my Radiant Wellbeing APP\n\nability to message me directly with questions about the practice or the course via the Community tab within the APP\n\nIncludes a complete iRest® yoga nidra workbook/manual.https://yogawithgabrielle.com.au/product/irest-6-week-yoga-nidra-meditation-course-self-paced
URL:https://yogaaustralia.org.au/event-course/irest-yoga-nidra-6-week-short-course-self-paced/
LOCATION:NSW
CATEGORIES:Events,Short Course (1 week or more)
ATTACH;FMTTYPE=image/jpeg:https://yogaaustralia.org.au/wp-content/uploads/2023/05/Rumi-centre-of-the-heart.jpg
ORGANIZER;CN="Gabrielle Boswell":MAILTO:gabrielle@yogawithgabrielle.com.au
END:VEVENT
BEGIN:VEVENT
DTSTART;TZID=Australia/Melbourne:20251023T000000
DTEND;TZID=Australia/Melbourne:20251026T235959
DTSTAMP:20260424T001625
CREATED:20250514T015121Z
LAST-MODIFIED:20250514T015127Z
UID:10002300-1761177600-1761523199@yogaaustralia.org.au
SUMMARY:"Nourish' Yoga Retreat
DESCRIPTION:Our retreat: \nBe enriched by our daily practices of alignment-based hatha yoga\, breathwork\, meditation and yogic studies. \nThe beautiful Gymea Eco Retreat and Spa sits within a secluded rainforest at the base of Wollumbin (MtWarning) \, a World Heritage national park in the Northern rivers region of NSW. \nChristine du Fresne will be teaching alignment-based asana\, pranayama and restorative practices. \nCarlos Pomeda\, a former Swami and respected scholar with over 50 years of dedicated practice\, will be leading us in an exploration of how our bodies become a vehicle for transformation through the practices of hatha yoga and related traditions. Carlos brings a depth of understanding rarely found in today’s yoga world. His teachings are a blend of humility\, humour\, and unmatched knowledge that will open doors into a deeper understanding of yoga. \nHis gift for making ancient teachings accessible and relevant can shift our perspective and elevate both our yoga practice and the way in which we live. \nThis isn’t just theory—it’s an opportunity to engage with a teacher who offers profound insights into the world of yoga\, and life itself through the ancient wisdom of tantra\, celebrating the fullness of life.
URL:https://yogaaustralia.org.au/event-course/nourish-yoga-retreat/
LOCATION:Gymea Eco Retreat and Spa\, 128 Bonnydoon Road Uki\, NSW\, 2484 Australia\, Uki\, New South Wales\, 2484\, Australia
CATEGORIES:Events
ATTACH;FMTTYPE=image/png:https://yogaaustralia.org.au/wp-content/uploads/2025/05/FB-ad-1.png
ORGANIZER;CN="Christine du Fresne":MAILTO:cduf47@gmail.com
END:VEVENT
BEGIN:VEVENT
DTSTART;TZID=Australia/Melbourne:20251024T160000
DTEND;TZID=Australia/Melbourne:20251026T143000
DTSTAMP:20260424T001625
CREATED:20250131T020751Z
LAST-MODIFIED:20250131T020803Z
UID:10002124-1761321600-1761489000@yogaaustralia.org.au
SUMMARY:Finding Soul Space - Spring Retreat
DESCRIPTION:Join Sarah Collin\, Holistic Health Practitioner\, Senior Yoga Teacher\, and Yoga Therapist\, for a delightful spring retreat in the heart of the beautiful South West of WA and bask in a rejuvenating program of yoga\, sound therapy\, chanting\, and relaxation. \nFinding Soul Space is all about YOU. \nYou choose what to attend and how to spend your time. The retreat offers morning yoga\, relaxation\, and meditation.\nOur retreat begins on Friday evening with an Ayurvedic dinner\, followed by our opening circle and sound bath.\nHome-made morning tea is provided each day\, taken at a leisurely pace\, giving you time to enjoy the company of like-minded souls as you soak up the relaxed outdoor setting alongside the studio. \nOn Saturday\, Sarah will share the power of Vedic chanting and meditative vocal toning\, leading you into soulful chanting experiences.\nYou might like to stay cocooned at Premalaya for the weekend\, retreating deep into your soul space and making simple meals in your apartment\, or you might choose to take an outing to a local winery or cafe on Saturday for lunch or dinner as the program gives you space for whatever your soul desires. After you’ve enjoyed whatever delights you arranged for your Saturday dinner\, you are welcome to enjoy the open fire in the outdoor area on Saturday night. Sit with Sarah (who loves a good fire) and let the evening unfold in great company and conversation. Sometimes less is more. \nSunday will begin with morning yoga and chanting. Then it’s time to go back to your apartment to pack up and check out by 10 am\, but the retreat is not over. After checking out\, we enjoy another delicious leisurely morning tea and a couple of hours to do as you choose. Take in another sauna or massage\, go for a spring walk\, or simply enjoy some time to reflect before our ayurvedic lunch.\nAfter lunch\, we will come back to the yoga studio to enjoy a deep relaxation and mini sound bath before our closing circle ceremony. \nOoh\, I can’t wait to share this weekend with YOU.
URL:https://yogaaustralia.org.au/event-course/finding-soul-space-spring-retreat/
LOCATION:Premalaya\, 1701 Wildwood Road\, Yallingup\, Western Australia\, 6282\, Australia
CATEGORIES:Events
ATTACH;FMTTYPE=image/jpeg:https://yogaaustralia.org.au/wp-content/uploads/2025/01/Finding_Soul_Space_Retreat_Collage.jpg
ORGANIZER;CN="Sarah Collin":MAILTO:sarah@sarahcollin.com
END:VEVENT
BEGIN:VEVENT
DTSTART;TZID=Australia/Melbourne:20251025T083000
DTEND;TZID=Australia/Melbourne:20251025T093000
DTSTAMP:20260424T001625
CREATED:20250328T015808Z
LAST-MODIFIED:20250328T015814Z
UID:10002199-1761381000-1761384600@yogaaustralia.org.au
SUMMARY:VEDIC CHANTING CLASSES
DESCRIPTION:Improve your memory and focus. –  Reduce mental agitation  –  Increase your breath capacity. –  Improve listening and communication skills –  Find and refine your own voice  –   Increase your self confidence. –  Strengthen you spiritual connection  –  Gain an overall sense of well-being!! \nVedic Chanting is yoga\, it is concentration\, meditation\, it is prāṇāyāma\, it is jñāna and it is bhakti. It is a commitment to learning something very deep. \nI am asked what the Vedas have to do with Yoga. Well\, the Vedas contain it\, the Vedas are themselves Yoga. That is what this is all about. \nThat said\, you don’t need anything to practice and learn. If you want to know something in you that will surprise you a lot\, this will surely interest you. It is not easy\, but it is enriching. It is not quick\, but it is one of the most beautiful things I have ever heard. \nChanting controls and transforms the Prāṇā\, it is a feeling of merging with the Universal vibration\, and it is rediscovering oneself anew in a practice very little known in the West. \nIn these classes you will learn how to pronounce Sanskrit\, you will learn the correct way to recite some Vedic mantras\, such as the popular Gāyatrī\, as it was taught in ancient times\, unchanged\, orally and following the rules of a South Indian lineage. \nYou don’t need to know how to sing\, or how to tune\,  in Vedic Chanting we only use 3 notes not 7 as in music \, this makes it accessible to everyone! \nChanting classes are conducted seated\, either on the floor or on a chair. It is important to feel comfortable so that you are able to focus only on the sound.  All chants will be taught through a “call and response” methodology\, using the aid of chant texts. The basic rules of Chanting\, along with general meanings of chants will be explained. \nThese classes are for you if you want to learn more about mantra practice. If you are a yoga teacher or student and you want to introduce Chanting in your classes or you want to work with mantras in your personal practice  \nhttps://dendupratyoga.com/vedic-chant/ \n 
URL:https://yogaaustralia.org.au/event-course/vedic-chanting-classes/2025-10-25/
LOCATION:DenDuprat Yoga Studio\, 1/96 mimosa road\, melbourne\, VIC\, 3163\, Australia
CATEGORIES:Events
ATTACH;FMTTYPE=image/jpeg:https://yogaaustralia.org.au/wp-content/uploads/2025/03/chanting-mantravalli-2.jpg
ORGANIZER;CN="Denise Duprat":MAILTO:dendupratyoga@gmail.com
END:VEVENT
END:VCALENDAR