BEGIN:VCALENDAR
VERSION:2.0
PRODID:-//Yoga Australia - ECPv6.13.1//NONSGML v1.0//EN
CALSCALE:GREGORIAN
METHOD:PUBLISH
X-WR-CALNAME:Yoga Australia
X-ORIGINAL-URL:https://yogaaustralia.org.au
X-WR-CALDESC:Events for Yoga Australia
REFRESH-INTERVAL;VALUE=DURATION:PT1H
X-Robots-Tag:noindex
X-PUBLISHED-TTL:PT1H
BEGIN:VTIMEZONE
TZID:Australia/Melbourne
BEGIN:STANDARD
TZOFFSETFROM:+1100
TZOFFSETTO:+1000
TZNAME:AEST
DTSTART:20260404T160000
END:STANDARD
BEGIN:DAYLIGHT
TZOFFSETFROM:+1000
TZOFFSETTO:+1100
TZNAME:AEDT
DTSTART:20261003T160000
END:DAYLIGHT
END:VTIMEZONE
BEGIN:VTIMEZONE
TZID:Australia/Brisbane
BEGIN:STANDARD
TZOFFSETFROM:+1000
TZOFFSETTO:+1000
TZNAME:AEST
DTSTART:20260101T000000
END:STANDARD
END:VTIMEZONE
BEGIN:VEVENT
DTSTART;TZID=Australia/Melbourne:20260325T000000
DTEND;TZID=Australia/Melbourne:20260327T235959
DTSTAMP:20260420T113856
CREATED:20260211T024600Z
LAST-MODIFIED:20260211T024606Z
UID:10002632-1774396800-1774655999@yogaaustralia.org.au
SUMMARY:Bhakti Women Summit 2026 - Sacred Sound
DESCRIPTION:Bhakti Women Summit 2026 – Sacred Sound\n25–27 March\n\nIs a free\, global online gathering of feminine wisdom-keepers. This year our focus is Sacred Sound. Over three days\, you’ll hear talks and presentations from 20+ wise women\, including chant leaders\, yoga teachers\, musicians\, storytellers\, and practitioners\, each offering their own doorway into sacred sound.\n\nThe summit opens for registration on 1 March. Follow along at\n\nhttps://www.instagram.com/bhaktiwomen/
URL:https://yogaaustralia.org.au/event-course/bhakti-women-summit-2026-sacred-sound/
LOCATION:100% online\, Davidson\, NSW\, 2085\, Australia
CATEGORIES:Events
ATTACH;FMTTYPE=image/jpeg:https://yogaaustralia.org.au/wp-content/uploads/2026/02/Bhakti-womens-summit-Instagram-Profile-Picture.jpg
ORGANIZER;CN="Rachel Nokes":MAILTO:rayoflightyoga000@gmail.com
END:VEVENT
BEGIN:VEVENT
DTSTART;TZID=Australia/Brisbane:20260327T093000
DTEND;TZID=Australia/Brisbane:20260327T123000
DTSTAMP:20260420T113856
CREATED:20260111T223245Z
LAST-MODIFIED:20260111T223250Z
UID:10002492-1774603800-1774614600@yogaaustralia.org.au
SUMMARY:Meditation to Reclaim Your Personal Power
DESCRIPTION:An experiential session using breath\, posture and attentional grounding to shift from reactive patterns to centred\, intentional responding. Practices foster emotional regulation\, embodied presence and compassionate self-leadership.
URL:https://yogaaustralia.org.au/event-course/meditation-to-reclaim-your-personal-power-2/
LOCATION:Biomedical Institute of Yoga and Meditation\, 66 Pacey Road\, Upper Brookfield\, QLD\, 4069\, Australia
CATEGORIES:Events
ATTACH;FMTTYPE=image/jpeg:https://yogaaustralia.org.au/wp-content/uploads/2025/12/IMG_7118-MTT-sessions-scaled.jpg
ORGANIZER;CN="Celia Roberts":MAILTO:contact@biyome.com.au
END:VEVENT
END:VCALENDAR