BEGIN:VCALENDAR
VERSION:2.0
PRODID:-//Yoga Australia - ECPv6.13.1//NONSGML v1.0//EN
CALSCALE:GREGORIAN
METHOD:PUBLISH
X-WR-CALNAME:Yoga Australia
X-ORIGINAL-URL:https://yogaaustralia.org.au
X-WR-CALDESC:Events for Yoga Australia
REFRESH-INTERVAL;VALUE=DURATION:PT1H
X-Robots-Tag:noindex
X-PUBLISHED-TTL:PT1H
BEGIN:VTIMEZONE
TZID:Australia/Melbourne
BEGIN:STANDARD
TZOFFSETFROM:+1100
TZOFFSETTO:+1000
TZNAME:AEST
DTSTART:20260404T160000
END:STANDARD
BEGIN:DAYLIGHT
TZOFFSETFROM:+1000
TZOFFSETTO:+1100
TZNAME:AEDT
DTSTART:20261003T160000
END:DAYLIGHT
END:VTIMEZONE
BEGIN:VEVENT
DTSTART;TZID=Australia/Melbourne:20260413T070000
DTEND;TZID=Australia/Melbourne:20260419T083000
DTSTAMP:20260420T082217
CREATED:20260410T005239Z
LAST-MODIFIED:20260410T005433Z
UID:10002761-1776063600-1776587400@yogaaustralia.org.au
SUMMARY:Autumn Yoga Intensive
DESCRIPTION:asana\, pranayama and meditationseason theme: let gopurificationexhale daily yoga practice for health\, harmony and balance with natureautumn ~ lungs + large intestineopen the lungs\, improve breathing and prana life forcerelease blocked stuck energy and negativitymake space for inspiration and motivationfocus: elimination\, purification\, respiration and refinementestablishing balance to the season energies of metal and vata.this course is live on zoom(option of daily session recording)
URL:https://yogaaustralia.org.au/event-course/autumn-yoga-intensive/
LOCATION:New South Wales
ATTACH;FMTTYPE=image/png:https://yogaaustralia.org.au/wp-content/uploads/2026/04/Screenshot-2026-04-10-105029.png
ORGANIZER;CN="Gwynne Jones":MAILTO:gwynne@gwynnejonesyoga.com
END:VEVENT
END:VCALENDAR