BEGIN:VCALENDAR
VERSION:2.0
PRODID:-//Yoga Australia - ECPv6.13.1//NONSGML v1.0//EN
CALSCALE:GREGORIAN
METHOD:PUBLISH
X-ORIGINAL-URL:https://yogaaustralia.org.au
X-WR-CALDESC:Events for Yoga Australia
REFRESH-INTERVAL;VALUE=DURATION:PT1H
X-Robots-Tag:noindex
X-PUBLISHED-TTL:PT1H
BEGIN:VTIMEZONE
TZID:Australia/Melbourne
BEGIN:STANDARD
TZOFFSETFROM:+1100
TZOFFSETTO:+1000
TZNAME:AEST
DTSTART:20260404T160000
END:STANDARD
BEGIN:DAYLIGHT
TZOFFSETFROM:+1000
TZOFFSETTO:+1100
TZNAME:AEDT
DTSTART:20261003T160000
END:DAYLIGHT
END:VTIMEZONE
BEGIN:VEVENT
DTSTART;TZID=Australia/Melbourne:20260416T190000
DTEND;TZID=Australia/Melbourne:20260514T200000
DTSTAMP:20260420T082509
CREATED:20260316T002931Z
LAST-MODIFIED:20260316T002936Z
UID:10002723-1776366000-1778788800@yogaaustralia.org.au
SUMMARY:SANSKRIT Experience the Language of Love
DESCRIPTION:Welcome to this five-week introduction to the Sanskrit alphabet.\n\nIt’s a joy to share this ancient technology with you. I hold these sacred sounds with deep respect\, and I look forward to exploring them together.\n\nIn this course\, we’ll approach Sanskrit as a living\, embodied practice. Rather than focusing only on intellectual understanding\, we’ll learn through felt sense\, sound\, breath\, and repetition. The intention is to internalise the alphabet in a way that feels grounded and alive.\n\nFive weeks is just the beginning. Mastery of pronunciation and embodiment takes time. We start where we are\, and we continue with patience and loving perseverance. It’s a blessing to do this in good company\, in satsang.
URL:https://yogaaustralia.org.au/event-course/sanskrit-experience-the-language-of-love/2026-04-16/
LOCATION:100% online\, Davidson\, NSW\, 2085\, Australia
CATEGORIES:Events
ATTACH;FMTTYPE=image/jpeg:https://yogaaustralia.org.au/wp-content/uploads/2026/03/nataraja-scaled.jpg
END:VEVENT
BEGIN:VEVENT
DTSTART;TZID=Australia/Melbourne:20260423T190000
DTEND;TZID=Australia/Melbourne:20260521T200000
DTSTAMP:20260420T082509
CREATED:20260316T002931Z
LAST-MODIFIED:20260316T002936Z
UID:10002724-1776970800-1779393600@yogaaustralia.org.au
SUMMARY:SANSKRIT Experience the Language of Love
DESCRIPTION:Welcome to this five-week introduction to the Sanskrit alphabet.\n\nIt’s a joy to share this ancient technology with you. I hold these sacred sounds with deep respect\, and I look forward to exploring them together.\n\nIn this course\, we’ll approach Sanskrit as a living\, embodied practice. Rather than focusing only on intellectual understanding\, we’ll learn through felt sense\, sound\, breath\, and repetition. The intention is to internalise the alphabet in a way that feels grounded and alive.\n\nFive weeks is just the beginning. Mastery of pronunciation and embodiment takes time. We start where we are\, and we continue with patience and loving perseverance. It’s a blessing to do this in good company\, in satsang.
URL:https://yogaaustralia.org.au/event-course/sanskrit-experience-the-language-of-love/2026-04-23/
LOCATION:100% online\, Davidson\, NSW\, 2085\, Australia
CATEGORIES:Events
ATTACH;FMTTYPE=image/jpeg:https://yogaaustralia.org.au/wp-content/uploads/2026/03/nataraja-scaled.jpg
END:VEVENT
BEGIN:VEVENT
DTSTART;TZID=Australia/Melbourne:20260424T110000
DTEND;TZID=Australia/Melbourne:20260427T120000
DTSTAMP:20260420T082509
CREATED:20260215T235043Z
LAST-MODIFIED:20260215T235047Z
UID:10002642-1777028400-1777291200@yogaaustralia.org.au
SUMMARY:KING ISLAND YOGA RETREAT
DESCRIPTION:Immerse yourself in Yoga and Meditation amongst the rugged beauty of King Island!\nEver wanted to experience King Island?\n\nWell\, here’s your chance to discover and explore; shipwrecks\, history\, birdlife\, stunning beaches and lighthouses\, and of course\, fresh local produce!\n\nA maximum of 9 participants ensure an intimate experience during your stay on the jewel of Bass Strait.\n\nImmerse yourself in twice daily Yoga and meditation classes\, bask in sightseeing (we know the best spots on the island) and dine on delicious local cuisine.\n\nIf you’re looking for a prissy retreat\, maybe try somewhere else\, but if you want a ‘pristine’ retreat – then King Island is your destination!
URL:https://yogaaustralia.org.au/event-course/king-island-yoga-retreat/
LOCATION:27 Forrest Streeet Naracoopa 7256\, 27 Forest Street\, Naracoopa King Island\, Tasmania\, 7256\, Australia
CATEGORIES:Events
ATTACH;FMTTYPE=image/jpeg:https://yogaaustralia.org.au/wp-content/uploads/2026/02/DSC_9450-scaled-1.jpg
ORGANIZER;CN="Stretch your Life":MAILTO:info@stretchyourlife.com.au
END:VEVENT
BEGIN:VEVENT
DTSTART;TZID=Australia/Melbourne:20260426T150000
DTEND;TZID=Australia/Melbourne:20260426T170000
DTSTAMP:20260420T082509
CREATED:20260413T233651Z
LAST-MODIFIED:20260413T233654Z
UID:10002767-1777215600-1777222800@yogaaustralia.org.au
SUMMARY:Autumn Yin & Meditation Wellness Workshop
DESCRIPTION:Welcome to our seasonal wellness offering.\n\nAutumn is a time of transition—an opportunity to slow down\, turn inward\, and nurture both body and mind as we move toward the cooler months. Through gentle\, revitalising practices\, we reconnect with balance\, simplicity\, and the rhythms of nature.\n\nJoin Yoga Therapist and Yin Yoga teacher John J Smith for a 2-hour Yin Yoga and Meditation workshop\, designed to support your wellbeing through:\n\n 	Immune and digestive system support\n 	Stress reduction and nervous system balance\n 	Improved sleep and relaxation\n 	Cultivation of vital energy (Chi)\n\nThis workshop offers a calm\, supportive space to restore\, reset\, and reconnect.
URL:https://yogaaustralia.org.au/event-course/autumn-yin-meditation-wellness-workshop/
LOCATION:Centenary Yoga\, 671 Seventeen Mile Rocks Rd\, Sinnamon Park\, Brisbane\, QLD\, 4073\, Australia
CATEGORIES:Events
ATTACH;FMTTYPE=image/jpeg:https://yogaaustralia.org.au/wp-content/uploads/2026/04/Yin-Wshop-Promo-Autumn-26.jpg
ORGANIZER;CN="Aliveness Yoga &amp%3B Yoga Therapy":MAILTO:johnjsmith1905@gmail.com
END:VEVENT
END:VCALENDAR