BEGIN:VCALENDAR
VERSION:2.0
PRODID:-//Yoga Australia - ECPv6.13.1//NONSGML v1.0//EN
CALSCALE:GREGORIAN
METHOD:PUBLISH
X-WR-CALNAME:Yoga Australia
X-ORIGINAL-URL:https://yogaaustralia.org.au
X-WR-CALDESC:Events for Yoga Australia
REFRESH-INTERVAL;VALUE=DURATION:PT1H
X-Robots-Tag:noindex
X-PUBLISHED-TTL:PT1H
BEGIN:VTIMEZONE
TZID:Australia/Melbourne
BEGIN:STANDARD
TZOFFSETFROM:+1100
TZOFFSETTO:+1000
TZNAME:AEST
DTSTART:20260404T160000
END:STANDARD
BEGIN:DAYLIGHT
TZOFFSETFROM:+1000
TZOFFSETTO:+1100
TZNAME:AEDT
DTSTART:20261003T160000
END:DAYLIGHT
END:VTIMEZONE
BEGIN:VTIMEZONE
TZID:Australia/Adelaide
BEGIN:STANDARD
TZOFFSETFROM:+1030
TZOFFSETTO:+0930
TZNAME:ACST
DTSTART:20260404T163000
END:STANDARD
BEGIN:DAYLIGHT
TZOFFSETFROM:+0930
TZOFFSETTO:+1030
TZNAME:ACDT
DTSTART:20261003T163000
END:DAYLIGHT
END:VTIMEZONE
BEGIN:VEVENT
DTSTART;TZID=Australia/Melbourne:20261115T000000
DTEND;TZID=Australia/Melbourne:20261121T235959
DTSTAMP:20260422T061344
CREATED:20260421T013230Z
LAST-MODIFIED:20260421T013240Z
UID:10002770-1794700800-1795305599@yogaaustralia.org.au
SUMMARY:Flo Fenton's Bali Yoga and Culture Retreat 2026
DESCRIPTION:For 6 nights and 5 days\, immerse in yoga and meditation whilst soaking up Bali’s vibrant Hindu culture in the rice paddies of Penestanan Artist’s village just a short walk from Ubud\, Bali’s cultural heart. Beautiful meals are created and served on site\, but there is also the opportunity to explore Ubud’s vast cornucopia of fabulous cafes\, restaurants and shops!\n\nOn this retreat\, as well as 2-3 x daily yoga and meditation practices in the fabulous yoga shala\, we will be treated to both welcome and farewell banquets\, a visit to Mengening sacred healing water temple led by a local female Hindu priest\, and a traditional Balinese Agni Hotra (sacred fire cleansing ceremony). Airport pick up is facilitated.\n\nThis retreat will not only leave you feeling relaxed and in touch with yourself\, having deepened your yoga and meditation practice\, but also full of enriching cultural experiences and memories to take home!
URL:https://yogaaustralia.org.au/event-course/flo-fentons-bali-yoga-and-culture-retreat-2026/
LOCATION:The Shala Bali\, Ubud\, Indonesia
CATEGORIES:Events
ATTACH;FMTTYPE=image/jpeg:https://yogaaustralia.org.au/wp-content/uploads/2026/04/20140929_141943_000-scaled.jpg
ORGANIZER;CN="Intouch Yoga-Flo Fenton":MAILTO:flo@intouchyogabyronbay.com
END:VEVENT
BEGIN:VEVENT
DTSTART;TZID=Australia/Adelaide:20261119T180000
DTEND;TZID=Australia/Adelaide:20261119T193000
DTSTAMP:20260422T061344
CREATED:20260111T221949Z
LAST-MODIFIED:20260111T221952Z
UID:10002548-1795111200-1795116600@yogaaustralia.org.au
SUMMARY:Somatic Movement + Yoga Nidrā
DESCRIPTION:Mindfully release deeply held muscle tension with subtle movements\, readying the body for the deep relaxation and exquisite inner work of Yoga Nidrā (following the iRest® style).\n\nFind more about Somatic Movement here\, and more about Yoga Nidrā here.\n\nClass occurs by Zoom on most Thursday evenings at 6pm Adelaide time.\n\n 
URL:https://yogaaustralia.org.au/event-course/somatic-movement-yoga-nidra/2026-11-19/
LOCATION:Online (Zoom — link sent upon registration)
CATEGORIES:Events
ATTACH;FMTTYPE=image/jpeg:https://yogaaustralia.org.au/wp-content/uploads/2026/01/iStock-1392147298-crop-sq-compressed.jpg
ORGANIZER;CN="Tina Shettigara":MAILTO:tina.shettigara@gmail.com
END:VEVENT
END:VCALENDAR