BEGIN:VCALENDAR
VERSION:2.0
PRODID:-//Yoga Australia - ECPv6.13.1//NONSGML v1.0//EN
CALSCALE:GREGORIAN
METHOD:PUBLISH
X-ORIGINAL-URL:https://yogaaustralia.org.au
X-WR-CALDESC:Events for Yoga Australia
REFRESH-INTERVAL;VALUE=DURATION:PT1H
X-Robots-Tag:noindex
X-PUBLISHED-TTL:PT1H
BEGIN:VTIMEZONE
TZID:Australia/Melbourne
BEGIN:STANDARD
TZOFFSETFROM:+1100
TZOFFSETTO:+1000
TZNAME:AEST
DTSTART:20260404T160000
END:STANDARD
BEGIN:DAYLIGHT
TZOFFSETFROM:+1000
TZOFFSETTO:+1100
TZNAME:AEDT
DTSTART:20261003T160000
END:DAYLIGHT
END:VTIMEZONE
BEGIN:VTIMEZONE
TZID:Australia/Adelaide
BEGIN:STANDARD
TZOFFSETFROM:+1030
TZOFFSETTO:+0930
TZNAME:ACST
DTSTART:20260404T163000
END:STANDARD
BEGIN:DAYLIGHT
TZOFFSETFROM:+0930
TZOFFSETTO:+1030
TZNAME:ACDT
DTSTART:20261003T163000
END:DAYLIGHT
END:VTIMEZONE
BEGIN:VEVENT
DTSTART;TZID=Australia/Melbourne:20260831T140000
DTEND;TZID=Australia/Melbourne:20260904T140000
DTSTAMP:20260422T072921
CREATED:20260413T233553Z
LAST-MODIFIED:20260413T233557Z
UID:10002768-1788184800-1788530400@yogaaustralia.org.au
SUMMARY:Stillness Speaks - A five day silent iRest® yoga nidra retreat
DESCRIPTION:In the quiet of retreat\, stillness reveals what has always been here\nWhen the pace of daily life softens and we allow ourselves to pause\, a quiet stillness naturally begins to reveal itself. This stillness is not something we create. It is already present — gently expressing itself when we slow down\, listen\, and rest.\n\nDuring the five days of Stillness Speaks\, you are invited into a contemplative rhythm that supports deep rest\, experiential discovery\, and embodied presence. Guided iRest Yoga Nidra meditation is complemented by Moving Meditation\, quiet sitting\, and simple contemplative practices that invite awareness into everyday movement and experience.\n\nAt times we will explore self-inquiry through nature\, allowing the surrounding environment to become a mirror for deeper listening and reflection. Periods of silence\, journaling\, and personal contemplation support the natural settling of the nervous system and a deeper sense of ease.\n\nThere will also be opportunities for optional co-meditation and gentle dialogue\, allowing you to explore shared presence and resonance with others while honoring the quiet inward orientation of retreat.\n\nThe retreat places a strong emphasis on direct experience and embodiment — offering space to rest deeply\, listen inwardly\, and discover the quiet presence that naturally reveals itself when stillness speaks.
URL:https://yogaaustralia.org.au/event-course/stillness-speaks-a-five-day-silent-irest-yoga-nidra-retreat/
LOCATION:Swami’s Yoga Retreat Centre 183 Pitt Town Road\, Kenthurst NSW\, 183 Pitt Town Road\, Kenthurst\, NSW\, Australia
CATEGORIES:Events
ATTACH;FMTTYPE=image/jpeg:https://yogaaustralia.org.au/wp-content/uploads/2026/04/Melbourne-WS_-nathan-dumlao-305489-unsplash-scaled.jpg
ORGANIZER;CN="Yoga from the Inside":MAILTO:info@yogafromtheinside.com.au
END:VEVENT
BEGIN:VEVENT
DTSTART;TZID=Australia/Adelaide:20260903T180000
DTEND;TZID=Australia/Adelaide:20260903T193000
DTSTAMP:20260422T072921
CREATED:20260111T221949Z
LAST-MODIFIED:20260111T221952Z
UID:10002537-1788458400-1788463800@yogaaustralia.org.au
SUMMARY:Somatic Movement + Yoga Nidrā
DESCRIPTION:Mindfully release deeply held muscle tension with subtle movements\, readying the body for the deep relaxation and exquisite inner work of Yoga Nidrā (following the iRest® style).\n\nFind more about Somatic Movement here\, and more about Yoga Nidrā here.\n\nClass occurs by Zoom on most Thursday evenings at 6pm Adelaide time.\n\n 
URL:https://yogaaustralia.org.au/event-course/somatic-movement-yoga-nidra/2026-09-03/
LOCATION:Online (Zoom — link sent upon registration)
CATEGORIES:Events
ATTACH;FMTTYPE=image/jpeg:https://yogaaustralia.org.au/wp-content/uploads/2026/01/iStock-1392147298-crop-sq-compressed.jpg
ORGANIZER;CN="Tina Shettigara":MAILTO:tina.shettigara@gmail.com
END:VEVENT
BEGIN:VEVENT
DTSTART;TZID=Australia/Melbourne:20260908T163000
DTEND;TZID=Australia/Melbourne:20260913T110000
DTSTAMP:20260422T072921
CREATED:20260114T024559Z
LAST-MODIFIED:20260114T024614Z
UID:10002591-1788885000-1789297200@yogaaustralia.org.au
SUMMARY:Rhythms of Nature - Week long Womens Retreat
DESCRIPTION:Rhythms of Nature is a six-day women’s retreat held on the white-sand shores of Jervis Bay\, designed to bring you back into rhythm with yourself\, with nature\, and with a supportive community of women. \nThis is a retreat for women who crave time in nature\, meaningful connection\, and movement that feels grounding and nourishing rather than demanding. Each day we’ll practice yoga\, share delicious plant-based meals\, and create space to rest\, explore\, and simply be. Alongside this\, you’ll be invited into unforgettable experiences\, including free-dive snorkelling with whales as they migrate south\, guided stargazing with an astrophysicist\, and time exploring the surrounding national park and coastline. \nYou don’t need to be fearless or experienced\, just open. Open to moving your body in ways that feel supportive\, to stepping gently outside your comfort zone\, and to sharing moments of awe\, laughter\, and quiet reflection with other women. \nMany women come on retreat alone\, and this space is designed so you never feel like you are doing it alone. Through shared experiences\, conversation\, and time in nature\, connection unfolds naturally. You’ll leave feeling restored\, inspired\, and deeply connected\, not only to the women you’ve shared this journey with\, but to yourself. \nRhythms of Nature is more than a yoga retreat. It’s an invitation to slow down\, breathe deeply\, explore what’s possible\, and remember how good it feels to move\, rest\, and belong.
URL:https://yogaaustralia.org.au/event-course/rhythms-of-nature-week-long-womens-retreat/
LOCATION:Huskisson New South Wales 2540\, Huskisson\, NSW\, 2540\, Australia
CATEGORIES:Events
ATTACH;FMTTYPE=image/png:https://yogaaustralia.org.au/wp-content/uploads/2026/01/Rhythms-of-Nature-Email-Header-3.png
ORGANIZER;CN="Grounded Motion - Morgan Hubbard":MAILTO:info@grounded-motion.com
END:VEVENT
BEGIN:VEVENT
DTSTART;TZID=Australia/Adelaide:20260910T180000
DTEND;TZID=Australia/Adelaide:20260910T193000
DTSTAMP:20260422T072921
CREATED:20260111T221949Z
LAST-MODIFIED:20260111T221952Z
UID:10002538-1789063200-1789068600@yogaaustralia.org.au
SUMMARY:Somatic Movement + Yoga Nidrā
DESCRIPTION:Mindfully release deeply held muscle tension with subtle movements\, readying the body for the deep relaxation and exquisite inner work of Yoga Nidrā (following the iRest® style).\n\nFind more about Somatic Movement here\, and more about Yoga Nidrā here.\n\nClass occurs by Zoom on most Thursday evenings at 6pm Adelaide time.\n\n 
URL:https://yogaaustralia.org.au/event-course/somatic-movement-yoga-nidra/2026-09-10/
LOCATION:Online (Zoom — link sent upon registration)
CATEGORIES:Events
ATTACH;FMTTYPE=image/jpeg:https://yogaaustralia.org.au/wp-content/uploads/2026/01/iStock-1392147298-crop-sq-compressed.jpg
ORGANIZER;CN="Tina Shettigara":MAILTO:tina.shettigara@gmail.com
END:VEVENT
BEGIN:VEVENT
DTSTART;TZID=Australia/Melbourne:20260911T140000
DTEND;TZID=Australia/Melbourne:20260913T130000
DTSTAMP:20260422T072921
CREATED:20260301T223105Z
LAST-MODIFIED:20260301T223109Z
UID:10002713-1789135200-1789304400@yogaaustralia.org.au
SUMMARY:September Yoga Retreat
DESCRIPTION:Join us in an exploration of both asana and meditation\, in this peaceful corner of Port Stephens\, just a two and a half hour drive from Sydney.\n\n\nLearn how non-dual philosophy fits with your practices\, and enjoy a Saturday night sound bath with Steph and Alex.\n\n\nTake a glorious walk along one of the nearby beaches to see the annual whale migration\, or experience part of the Tomaree Coastal Walk.\n\n\nDelicious vegetarian meals by Feast Catering of Newcastle.\n\n\nAll details at https://unityyoga.com.au/events/
URL:https://yogaaustralia.org.au/event-course/september-yoga-retreat/
LOCATION:Oasis One Mile Beach\, 5 Koala Place\, One Mile\, NSW\, 2316\, Australia
CATEGORIES:Events
ATTACH;FMTTYPE=image/png:https://yogaaustralia.org.au/wp-content/uploads/2026/03/Revitalize-and-Reset.png
ORGANIZER;CN="Christine du Fresne":MAILTO:cduf47@gmail.com
END:VEVENT
BEGIN:VEVENT
DTSTART;TZID=Australia/Melbourne:20260914T180000
DTEND;TZID=Australia/Melbourne:20260914T190000
DTSTAMP:20260422T072921
CREATED:20260111T221751Z
LAST-MODIFIED:20260111T221754Z
UID:10002564-1789408800-1789412400@yogaaustralia.org.au
SUMMARY:Sound Healing Immersion in Perth Hills
DESCRIPTION:Sound Healing Immersion: A Monthly Journey of Resonance & Restoration\n\n\n\n\n\nStep into a sanctuary of sound where stillness meets vibration\, and your nervous system is invited to soften. This monthly immersion offers a spacious hour of therapeutic sound designed to support emotional regulation\, deep rest\, and gentle reconnection with self.\n\nHeld in the heart of Mundaring\, each session weaves together crystal bowls\, chimes\, and grounding breath to create a nonverbal experience of safety and release. Whether you’re arriving with tension\, fatigue\, or curiosity\, you’re welcome to rest\, receive\, and be held—just as you are.\n\n🕰️ When: Once a month on Monday evenings\n\n📍 Where: Mundaring – Cafe Mojo Community Centre\n\n🧘‍♀️ Who it’s for: Adults seeking emotional ease\, caregivers\, and anyone needing a gentle reset\n\n🎶 What to bring: A mat\, blanket\, and anything that helps you feel safe and supported\n\nNo prior experience needed. You’re welcome to lie down\, sit\, or move quietly—this is your space to listen inward.\n\nBooking is essential for this monthly event\, limited spaces. Book your spot here.\n\nFind out more about Angela on her website.
URL:https://yogaaustralia.org.au/event-course/sound-healing-immersion-in-perth-hills/2026-09-14/
LOCATION:Cafe Mojo Community Centre\, 16 Craig Street\, Mundaring\, Perth\, Western Australia\, 6073\, Australia
CATEGORIES:Events
ATTACH;FMTTYPE=image/png:https://yogaaustralia.org.au/wp-content/uploads/2026/01/Sound-healing-picture-with-QR-code.png
ORGANIZER;CN="Angela Black Wellness":MAILTO:angelablackwellness@outlook.com
END:VEVENT
BEGIN:VEVENT
DTSTART;TZID=Australia/Adelaide:20260917T180000
DTEND;TZID=Australia/Adelaide:20260917T193000
DTSTAMP:20260422T072921
CREATED:20260111T221949Z
LAST-MODIFIED:20260111T221952Z
UID:10002539-1789668000-1789673400@yogaaustralia.org.au
SUMMARY:Somatic Movement + Yoga Nidrā
DESCRIPTION:Mindfully release deeply held muscle tension with subtle movements\, readying the body for the deep relaxation and exquisite inner work of Yoga Nidrā (following the iRest® style).\n\nFind more about Somatic Movement here\, and more about Yoga Nidrā here.\n\nClass occurs by Zoom on most Thursday evenings at 6pm Adelaide time.\n\n 
URL:https://yogaaustralia.org.au/event-course/somatic-movement-yoga-nidra/2026-09-17/
LOCATION:Online (Zoom — link sent upon registration)
CATEGORIES:Events
ATTACH;FMTTYPE=image/jpeg:https://yogaaustralia.org.au/wp-content/uploads/2026/01/iStock-1392147298-crop-sq-compressed.jpg
ORGANIZER;CN="Tina Shettigara":MAILTO:tina.shettigara@gmail.com
END:VEVENT
BEGIN:VEVENT
DTSTART;TZID=Australia/Melbourne:20260918T000000
DTEND;TZID=Australia/Melbourne:20260927T235959
DTSTAMP:20260422T072921
CREATED:20260301T223308Z
LAST-MODIFIED:20260301T223314Z
UID:10002710-1789689600-1790553599@yogaaustralia.org.au
SUMMARY:LIVE HEALTHIER LONGER
DESCRIPTION:CELEBRATE THE START OF NEW LIFE.\nRelax\, Rejuvenate\, and Restore\n\nSpring detox retreat with daily yoga\, meditation\, deep relaxation\, Ayurvedic lectures. Empowering you to stay healthy and functional\, all life long.\n\nThis could be the health breakthrough you have been waiting for.\n*DETOX MEDICINES AVAILABLE AS OPTIONAL EXTRAS\n\nExtras & Notes: \n\n 	Personalized dietary options are available for an additional fee. We are happy to accommodate gluten-free\, vegan\, dairy-free preferences\, as well as specific allergies\, with advance notice to ensure the best possible experience.\n 	Indulge in authentic Ayurvedic massages\, treatments\, and personal consultations during your retreat. To ensure availability and a tailored experience\, pre-booking of Ayurvedic treatments prior to the retreat is required.
URL:https://yogaaustralia.org.au/event-course/live-healthier-longer/
LOCATION:Nirvana Wellbeing Retreat\, 87 Binna Burra Rd\, Beechmont\, Queensland\, 4211\, Australia
CATEGORIES:Events
ATTACH;FMTTYPE=image/png:https://yogaaustralia.org.au/wp-content/uploads/2026/02/LIVE-HEALTHIER-LONGER_September.png
ORGANIZER;CN="Shanti Gowans":MAILTO:admin@healthinstitute.edu.au
END:VEVENT
BEGIN:VEVENT
DTSTART;TZID=Australia/Melbourne:20260919T000000
DTEND;TZID=Australia/Melbourne:20260919T235959
DTSTAMP:20260422T072921
CREATED:20260209T011621Z
LAST-MODIFIED:20260209T011624Z
UID:10002628-1789776000-1789862399@yogaaustralia.org.au
SUMMARY:DAY RETREAT | “Body and Mind Release”
DESCRIPTION:Whole body and mind releasing with gentle\, intentional movement and yoga\, breath work\, and guided practices for deep rest. With these practices\, you can relieve common aches and pains\, deepen your presence\, and learn how to embody the stillness\, peace\, and kindness we seek. Includes a delicious Ayurvedic lunch and afternoon tea.\n\nExtras & Notes: \n\n 	Personalized dietary options are available for an additional fee. We are happy to accommodate gluten-free\, vegan\, dairy-free preferences\, as well as specific allergies\, with advance notice to ensure the best possible experience.\n 	Indulge in authentic Ayurvedic massages\, treatments\, and personal consultations during your retreat. To ensure availability and a tailored experience\, pre-booking of Ayurvedic treatments prior to the retreat is required.\n\n2026 Dates:\n\nFeb 21\n\nMarch 7\n\nMay 9\n\nJuly 4\n\nAug 29\n\nSept 19\n\nOct 24\n\nNov 7
URL:https://yogaaustralia.org.au/event-course/day-retreat-body-and-mind-release-6/
LOCATION:Nirvana Wellbeing Retreat\, 87 Binna Burra Rd\, Beechmont\, Queensland\, 4211\, Australia
CATEGORIES:Events
ATTACH;FMTTYPE=image/png:https://yogaaustralia.org.au/wp-content/uploads/2026/02/September-19.png
ORGANIZER;CN="Shanti Gowans":MAILTO:admin@healthinstitute.edu.au
END:VEVENT
BEGIN:VEVENT
DTSTART;TZID=Australia/Melbourne:20260919T140000
DTEND;TZID=Australia/Melbourne:20260919T160000
DTSTAMP:20260422T072921
CREATED:20251119T235940Z
LAST-MODIFIED:20251119T235947Z
UID:10002463-1789826400-1789833600@yogaaustralia.org.au
SUMMARY:Yoga Sound and Breath Retreats
DESCRIPTION:A two hour event where we explore Gentle Slow Flow Yoga to open the body and create space for release with the Breath whilst being immersed in the healing vibrations of Sound. Concluding with open conversation and connection over a delocious afternoon tea including Pruffels with gluten free options. Third Saturday of every month 2-4pm 314 Church St\, Richmond The iconic hall behind Gallery 314\, 314 Church St\, Richmond\, VIC.  General Tickets: $55\,  Seniors/Concession Tickets: $40\, First Nations $25. BYO: Yoga Mat\, Blanket\, Pillow\, Water bottle or any other props to enjoy your experience.
URL:https://yogaaustralia.org.au/event-course/yoga-sound-and-breath-retreats-2/2026-09-19/
LOCATION:Clifton Hall\, 314 Church St\, Richmond\, Melbourne\, VIC\, 3121\, Australia
CATEGORIES:Events
ATTACH;FMTTYPE=image/jpeg:https://yogaaustralia.org.au/wp-content/uploads/2025/11/534427757_733038719496358_3522793865285089471_n.jpg
ORGANIZER;CN="Georgina Mangan-Georgiou":MAILTO:goo.goona@hotmail.com
END:VEVENT
BEGIN:VEVENT
DTSTART;TZID=Australia/Adelaide:20260924T180000
DTEND;TZID=Australia/Adelaide:20260924T193000
DTSTAMP:20260422T072921
CREATED:20260111T221949Z
LAST-MODIFIED:20260111T221952Z
UID:10002540-1790272800-1790278200@yogaaustralia.org.au
SUMMARY:Somatic Movement + Yoga Nidrā
DESCRIPTION:Mindfully release deeply held muscle tension with subtle movements\, readying the body for the deep relaxation and exquisite inner work of Yoga Nidrā (following the iRest® style).\n\nFind more about Somatic Movement here\, and more about Yoga Nidrā here.\n\nClass occurs by Zoom on most Thursday evenings at 6pm Adelaide time.\n\n 
URL:https://yogaaustralia.org.au/event-course/somatic-movement-yoga-nidra/2026-09-24/
LOCATION:Online (Zoom — link sent upon registration)
CATEGORIES:Events
ATTACH;FMTTYPE=image/jpeg:https://yogaaustralia.org.au/wp-content/uploads/2026/01/iStock-1392147298-crop-sq-compressed.jpg
ORGANIZER;CN="Tina Shettigara":MAILTO:tina.shettigara@gmail.com
END:VEVENT
BEGIN:VEVENT
DTSTART;TZID=Australia/Melbourne:20260928T090000
DTEND;TZID=Australia/Melbourne:20260928T103000
DTSTAMP:20260422T072921
CREATED:20260421T012115Z
LAST-MODIFIED:20260421T012122Z
UID:10002774-1790586000-1790591400@yogaaustralia.org.au
SUMMARY:Special Event: Moon Flow with Gemma Flynn
DESCRIPTION:Join Gemma Flynn and explore an alternate to the ashtanga series – a moon flow. Many ashtangis use a moon flow when working with injury\, on the full moon\, or when they are menstruating. This is a nurturing sequence for all levels\, with no experience required. Learn more here.\n\nCost: $38\nCommunity Members: FREE\n\n*Available online or in person
URL:https://yogaaustralia.org.au/event-course/special-event-moon-flow-with-gemma-flynn/
LOCATION:6/79 Colin St West Perth 6005\, 6/79 Colin St\, West Perth\, Western Australia\, 6005\, Australia
CATEGORIES:Events
ATTACH;FMTTYPE=image/png:https://yogaaustralia.org.au/wp-content/uploads/2026/04/City-of-Perth-1-2.png
END:VEVENT
END:VCALENDAR