BEGIN:VCALENDAR
VERSION:2.0
PRODID:-//Yoga Australia - ECPv6.13.1//NONSGML v1.0//EN
CALSCALE:GREGORIAN
METHOD:PUBLISH
X-WR-CALNAME:Yoga Australia
X-ORIGINAL-URL:https://yogaaustralia.org.au
X-WR-CALDESC:Events for Yoga Australia
REFRESH-INTERVAL;VALUE=DURATION:PT1H
X-Robots-Tag:noindex
X-PUBLISHED-TTL:PT1H
BEGIN:VTIMEZONE
TZID:Australia/Melbourne
BEGIN:STANDARD
TZOFFSETFROM:+1100
TZOFFSETTO:+1000
TZNAME:AEST
DTSTART:20240406T160000
END:STANDARD
BEGIN:DAYLIGHT
TZOFFSETFROM:+1000
TZOFFSETTO:+1100
TZNAME:AEDT
DTSTART:20241005T160000
END:DAYLIGHT
BEGIN:STANDARD
TZOFFSETFROM:+1100
TZOFFSETTO:+1000
TZNAME:AEST
DTSTART:20250405T160000
END:STANDARD
BEGIN:DAYLIGHT
TZOFFSETFROM:+1000
TZOFFSETTO:+1100
TZNAME:AEDT
DTSTART:20251004T160000
END:DAYLIGHT
END:VTIMEZONE
BEGIN:VEVENT
DTSTART;TZID=Australia/Melbourne:20241127T080000
DTEND;TZID=Australia/Melbourne:20251130T170000
DTSTAMP:20260422T075249
CREATED:20230523T131513Z
LAST-MODIFIED:20241127T051821Z
UID:10000355-1732694400-1764522000@yogaaustralia.org.au
SUMMARY:Find Balance through Sound (self paced)
DESCRIPTION:Self Paced event. Find a deeper connection to stillness and life through the yoga of sound. Chanting is known to: Increase breath control\n\nInfluence heart rate\n\nLower blood pressure\n\nEase muscle tension\n\nImprove digestion\n\nReduce pain and assist healing\n\nActivate different part of the brain\n\nStimulate learning and memory\n\nHelp us focus on positive words and phrases\, involving gratitude and peace\n\nUnite people and enhance a sense of connection with others\n\nHelp prepare for pranayama\, meditation or prayer\n\nMay reduce snoring by toning the muscles of the throatThrough practice\, we draw senses inward to quiet the mind. In this stillness\, we can experience more subtle aspects of being that resides beyond the mind; a oneness and wholeness with all of life and a sense of profound peace. Mantra is a reminder to treat our words as sacred\, creative and divine.   What we think and say\, we create.  Inspired by Deepak Chopra’s ‘Seven Spiritual Laws of Success’\, these 10-15 minute seated practices offer reflection\, self enquiry\, connection and stillness through mantra repetition (japa) and meditation.  There are 7 recordings in this series which run through my ‘Radiant Wellbeing’ APP so you can practice anywhere\, anytime.
URL:https://yogaaustralia.org.au/event-course/find-balance-through-sound-self-paced/
LOCATION:NSW
CATEGORIES:Events,Online,Short Course (1 week or more)
ATTACH;FMTTYPE=image/jpeg:https://yogaaustralia.org.au/wp-content/uploads/2023/05/iStock-1253659086-300x225-1.jpg
ORGANIZER;CN="Gabrielle Boswell":MAILTO:gabrielle@yogawithgabrielle.com.au
END:VEVENT
BEGIN:VEVENT
DTSTART;TZID=Australia/Melbourne:20241127T080000
DTEND;TZID=Australia/Melbourne:20251130T170000
DTSTAMP:20260422T075249
CREATED:20230523T131815Z
LAST-MODIFIED:20241127T050311Z
UID:10000356-1732694400-1764522000@yogaaustralia.org.au
SUMMARY:iRest yoga nidra 6 week short course (self paced)
DESCRIPTION:This deep relaxation course will introduce you to a modern system of yoga nidra practice which can assist in the promotion of physical and mental health and wellbeing. iRest Integrative Restoration is a form of meditative self-inquiry stemming from the teachings of Yoga which can assist in promoting deep relaxation throughout mind and body. The iRest approach has been the subject of significant research and found valuable in the treatment of insomnia\, trauma\, anxiety\, depression\, anger management\, and chronic pain. iRest nourishes qualities such as joy\, peacefulness\, empathy\, forgiveness\, patience and loving kindness towards yourself and others. iRest practices directly address the way you respond to your thoughts and emotions\, enabling you to recognise the innate peace of mind which can be present amidst all of life’s challenging circumstances. You will receive  – weekly 15-20 minute pre-recorded video lectures plus a 20-35 minute iRest audio practice\n\naccess to the course via my Radiant Wellbeing APP\n\nability to message me directly with questions about the practice or the course via the Community tab within the APP\n\nIncludes a complete iRest® yoga nidra workbook/manual.https://yogawithgabrielle.com.au/product/irest-6-week-yoga-nidra-meditation-course-self-paced
URL:https://yogaaustralia.org.au/event-course/irest-yoga-nidra-6-week-short-course-self-paced/
LOCATION:NSW
CATEGORIES:Events,Short Course (1 week or more)
ATTACH;FMTTYPE=image/jpeg:https://yogaaustralia.org.au/wp-content/uploads/2023/05/Rumi-centre-of-the-heart.jpg
ORGANIZER;CN="Gabrielle Boswell":MAILTO:gabrielle@yogawithgabrielle.com.au
END:VEVENT
BEGIN:VEVENT
DTSTART;TZID=Australia/Melbourne:20251026T110000
DTEND;TZID=Australia/Melbourne:20251101T140000
DTSTAMP:20260422T075249
CREATED:20250522T032840Z
LAST-MODIFIED:20250522T032846Z
UID:10002306-1761476400-1762005600@yogaaustralia.org.au
SUMMARY:Tassie 25
DESCRIPTION:Yoga Retreat\nAfter years of searching\, I’m so excited to have finally found the perfect place in Tasmania to take you with this beautiful opportunity for like-minded hearts to come together.\n\n\nFollowing the incredible success of our March adventure\, we’re heading back to the breathtaking north-east of Tassie\,\n\n\nwhere we’ll be staying in a beautifully renovated 100-year-old hotel\, nestled in a tiny village lovingly restored by its owners\, Gillian and Steve.\n\n\nYour week will be filled with soul-nourishing yoga\, delicious food\, and unforgettable experiences—set against one of the most spectacular landscapes imaginable.\n\n\nYou’ll find all the details at www.selahyoga.com.au/tassie so feel free to reach out with any questions you may have.\n\n\nBookings open online on Saturday June 7 at 8am with numbers limited to an intimate 12.\n\n\nI can’t wait to share it all with you. love Kaz – Selah Yoga @selahyogakaz\n\n\n\n\n\nCOST :\n\n\n– Single ensuite room $3495\n\n\n– Twin ensuite share $3195\n\n\n\n\n\nINCLUDES :\n\n\n– 6 nights accommodation\, all meals (including heading out for wood fire pizza night) and return transfers from Launceston airport when your flight co-ordinates with the group.\n\n\n– daily yoga classes with Kaz – mostly two classes each day\n\n\n– 1 x massage\n\n\n– day activities including Floating Sauna and cold plunge at Lake Derby\, day trip to Bay of Fires with beachside picnic\, gallery visit and beautiful forest walks
URL:https://yogaaustralia.org.au/event-course/tassie-25/
LOCATION:Tasmania\, Tasmania
CATEGORIES:Events
ORGANIZER;CN="Kaz Bishton":MAILTO:karen.bishton@bigpond.com
END:VEVENT
BEGIN:VEVENT
DTSTART;TZID=Australia/Melbourne:20251026T120000
DTEND;TZID=Australia/Melbourne:20251101T170000
DTSTAMP:20260422T075249
CREATED:20250522T232213Z
LAST-MODIFIED:20250522T232219Z
UID:10002307-1761480000-1762016400@yogaaustralia.org.au
SUMMARY:Tassie Yoga Retreat
DESCRIPTION:Yoga Retreat\n\n\nAfter years of searching\, I’m so excited to have finally found the perfect place in Tasmania to take you with this beautiful opportunity for like-minded hearts to come together.\n\n\nFollowing the incredible success of our March adventure\, we’re heading back to the breathtaking north-east of Tassie\,\n\n\nwhere we’ll be staying in a beautifully renovated 100-year-old hotel\, nestled in a tiny village lovingly restored by its owners\, Gillian and Steve.\n\n\nYour week will be filled with soul-nourishing yoga\, delicious food\, and unforgettable experiences—set against one of the most spectacular landscapes imaginable.\n\n\nYou’ll find all the details at www.selahyoga.com.au/tassie so feel free to reach out with any questions you may have.\n\n\nBookings open online on Saturday June 7 at 8am with numbers limited to an intimate 12.\n\n\nI can’t wait to share it all with you. love Kaz – Selah Yoga @selahyogakaz\n\n\n\n\n\nCOST :\n\n\n– Single ensuite room $3495\n\n\n– Twin ensuite share $3195\n\n\n\n\n\nINCLUDES :\n\n\n– 6 nights accommodation\, all meals (including heading out for wood fire pizza night) and return transfers from Launceston airport when your flight co-ordinates with the group.\n\n\n– daily yoga classes with Kaz – mostly two classes each day\n\n\n– 1 x massage\n\n\n– day activities including Floating Sauna and cold plunge at Lake Derby\, day trip to Bay of Fires with beachside picnic\, gallery visit\, beautiful walks.
URL:https://yogaaustralia.org.au/event-course/tassie-yoga-retreat/
LOCATION:NSW
CATEGORIES:Events
ORGANIZER;CN="Kaz Bishton":MAILTO:karen.bishton@bigpond.com
END:VEVENT
BEGIN:VEVENT
DTSTART;TZID=Australia/Melbourne:20251030T080000
DTEND;TZID=Australia/Melbourne:20251115T170000
DTSTAMP:20260422T075249
CREATED:20250408T231613Z
LAST-MODIFIED:20250408T232017Z
UID:10002215-1761811200-1763226000@yogaaustralia.org.au
SUMMARY:Journey to the Motherland ~ India Retreat
DESCRIPTION:Join Mollie and the Jala Yoga India team on an unforgettable adventure through the country she calls ‘home.’ Having lived\, worked\, and traveled across India annually (sometimes twice a year) for nearly a decade\, Mollie knows this land intimately—its rhythms\, its hidden gems\, and the safest ways to experience its beauty. \nHaving spent years running tours\, you’ll travel with confidence\, guided by Mollie and her trusted local friends\, teachers\, and community who make up Jala Yoga’s India branch. This isn’t just another retreat—it’s an authentic\, deeply immersive experience\, crafted with love\, care\, and a decade of local knowledge. \nWhy Travel with Jala Yoga India?✔ Safety & Expertise – Travel with someone who knows India inside and out\, ensuring a smooth\, secure\, and enriching experience.✔ A Local’s Perspective – Meet Mollie’s friends\, teachers\, and favorite places for a truly authentic experience.✔ Cultural & Spiritual Immersion – Learn the best food on the menu to order\, speak Hindi\, practice Yoga with Mollie’s teacher\, and explore the real\, breathtaking India beyond the tourist trail. \nWhether it’s your first time in India or you’re returning for more\, you’ll feel safe\, supported\, and deeply connected every step of the way. \nInclusions\n\nExplore Delhi\, Agra\, Rishikesh\, Hampi & Goa\nAll transport within India\, including Airport transfers\, Taxis & Rickshaws\, internal flights\, Buses and Trains.\nBreakfast daily. \n5x Dinners (once in Goa)\nAll entrance fees for scheduled monuments & activities.\nAll accommodation in 3-4 star hotels. \nCultural experiences at all of Mollie’s favourite places she has found over her years of travelling\, working and living in India.\nA day out in Delhi\, visiting monuments in New & Old Delhi.\nTwo visits to the Taj Mahal – an afternoon & the following sunrise from two different views.\nOne class with Mollie’s friend Himanshu at his Yoga Studio in Laxman Jhula\, Rishikesh.\nA sunrise visit to a mountain-top temple\, overlooking snow capped mountains of the Himalayas.\nTemple tours at UNSECO World Heritage sites.\nA tour of Hampi by Tuk tuk\, and endless chai stops with Mollie’s “Hampi boys”.\nLots of nature time in Hampi\, watching sunrise and sunset from the worlds best secret spots. (Think – lion king goes to India!)\nA Puja Ceremony with local Priest (Pandit).\nOne Traditional Cooking class. \nOne Ayurvedic Spa treatment.\nOne Ayurvedic Consult with Ayurvedic Doctor.\nA Sunrise Dolphin tour.\nDay Trip to Mollie’s favourite place just outside of Goa (Think – jungle book meets a  bright blue ocean)\nPop-up Class with Mollie’s teacher\, Yogacharya Lalit Kumar. \n5x Yoga Classes with Mollie.\nMollie’s own version of the Lonely Planet Guide to Travelling India (restaurant suggestions\, activity suggestions\, history lessons & language for each destination you travel to)\nLots of down time to rest or explore (Mollie will show you the best places to see and eat).
URL:https://yogaaustralia.org.au/event-course/journey-to-the-motherland-india-retreat/
LOCATION:India
CATEGORIES:Events
ATTACH;FMTTYPE=image/png:https://yogaaustralia.org.au/wp-content/uploads/2025/04/Copy-of-Copy-of-YOGA-BEACH-CLEAN-2.png
ORGANIZER;CN="Mollie Cox":MAILTO:admin@jalayoga.co
END:VEVENT
BEGIN:VEVENT
DTSTART;TZID=Australia/Melbourne:20251031T140000
DTEND;TZID=Australia/Melbourne:20251102T140000
DTSTAMP:20260422T075249
CREATED:20250526T001132Z
LAST-MODIFIED:20250526T001139Z
UID:10002308-1761919200-1762092000@yogaaustralia.org.au
SUMMARY:SPRING 2025 YOGA "Ritual" RETREAT
DESCRIPTION:2025 SPRING YOGA RETREAT: 31st October – 2nd November\n\n\nat Carawirry Forest Escape https://www.carawirry.com.au/ ​  \n\n$1150 TWIN & $1650 PRIVATE ​\n\nHow often does life get so quiet that you can hear what your heart yearns for?\nWhen does life become so still that you tend to what makes you ache?\n\n\nAnd do you pause to reset your compass to align with your purpose; to check you’re on track with what stirs inside you?\n\nThis retreat will be about ritual to cleanse\, tune in\, dream and gain clarity.  We’ll offer practices you can continue with beyond this weekend of forest nourishment. \n\n\nWe are catering to all levels and any practitioner can participate in as much or as little of the program as they wish:\n\n\nFRIDAY\n2pm Check-in\n3pm Welcome Circle\n4.30pm Yin/Restorative Yoga and Yoga Nidra (90 mins approx.)\n6.30pm Dinner\n8pm Pranayama (breathing practice) and Meditation followed by silence and rest (30 mins approx.) \n\nSATURDAY\n6.30am Dynamic (Vinyasa) Yoga (1 hour)\n7.30am Pranayama\, Meditation\, Journalling (45 mins)\n8.30am Breakfast\n11am Hatha / Gentle Yoga Practice (1 hour)\n12.30pm Lunch\n4.30pm Yin/Restorative and Kirtan/Chanting with Bek @harpbeatmusic – live musical accompaniment (90 mins approx.)\n6.30pm Dinner8pm Pranayama (breathing practice) and Sound Bath followed by silence and rest (30 mins approx.) \nSUNDAY\n6.30am Dynamic (Vinyasa) Yoga (1 hour)\n7.30am Pranayama\, Meditation\, Journalling (45 mins)\n8.30am Breakfast\n11am Hatha / Gentle Yoga Practice (1 hour)\n12.30pm Lunch / Closing Circle\n2pm Check-out \n* Massage will be available at an additional cost of $110 and will need to be booked prior to the retreat with some slots being offered on Friday from 10am. \n\n​There is plenty of free time to explore the ​exquisite walking tracks\, swim in the waterfall (or plunge pool) or to sit quietly listening to the wildlife and forest ambience.\n\nBoth Leah Suters and Sarah Downs are yoga teachers and massage therapists with decades of experience. Leah will be your Ayurvedic chef providing a sumptuous\, seasonal\, colourful and creative menu. Our mission is that your body\, mind and spirit are zinging after this retreat and you have daily tools to stay tuned into your heart when you return to the noise of general life.\n\nA retreat allows the practitioner to go deeper into their practice and internal world. It can offer the opportunity to evaluate\, let go and transform.\n\n\n“Intuition doesn’t scream.  It waits for stillness.” @journalofthesoul
URL:https://yogaaustralia.org.au/event-course/spring-2025-yoga-ritual-retreat/
LOCATION:CARAWIRRY FOREST ESCAPE\, 73 CABBAGE TREE RD\, MAIN CREEK\, NSW\, 2420\, Australia
CATEGORIES:Events
ORGANIZER;CN="SARAH DOWNS":MAILTO:blueysyoga@gmail.com
END:VEVENT
BEGIN:VEVENT
DTSTART;TZID=Australia/Melbourne:20251031T140000
DTEND;TZID=Australia/Melbourne:20251102T140000
DTSTAMP:20260422T075249
CREATED:20250526T002239Z
LAST-MODIFIED:20250527T032058Z
UID:10002309-1761919200-1762092000@yogaaustralia.org.au
SUMMARY:SPRING 2025 YOGA "Ritual" RETREAT
DESCRIPTION:2025 SPRING YOGA RETREAT: 31st October – 2nd November\n\n\nat Carawirry Forest Escape https://www.carawirry.com.au/ ​  \n\n$1150 TWIN & $1650 PRIVATE ​\n\nHow often does life get so quiet that you can hear what your heart yearns for?\nWhen does life become so still that you tend to what makes you ache?\n\n\nAnd do you pause to reset your compass to align with your purpose; to check you’re on track with what stirs inside you?\n\nThis retreat will be about ritual to cleanse\, tune in\, dream and gain clarity.  We’ll offer practices you can continue with beyond this weekend of forest nourishment. \n\n\nWe are catering to all levels and any practitioner can participate in as much or as little of the program as they wish:\n\n\nFRIDAY\n2pm Check-in\n3pm Welcome Circle\n4.30pm Yin/Restorative Yoga and Yoga Nidra (90 mins approx.)\n6.30pm Dinner\n8pm Pranayama (breathing practice) and Meditation followed by silence and rest (30 mins approx.) \n\nSATURDAY\n6.30am Dynamic (Vinyasa) Yoga (1 hour)\n7.30am Pranayama\, Meditation\, Journalling (45 mins)\n8.30am Breakfast\n11am Hatha / Gentle Yoga Practice (1 hour)\n12.30pm Lunch\n4.30pm Yin/Restorative and Kirtan/Chanting with Bek @harpbeatmusic – live musical accompaniment (90 mins approx.)\n6.30pm Dinner8pm Pranayama (breathing practice) and Sound Bath followed by silence and rest (30 mins approx.) \nSUNDAY\n6.30am Dynamic (Vinyasa) Yoga (1 hour)\n7.30am Pranayama\, Meditation\, Journalling (45 mins)\n8.30am Breakfast\n11am Hatha / Gentle Yoga Practice (1 hour)\n12.30pm Lunch / Closing Circle\n2pm Check-out \n* Massage will be available at an additional cost of $110 and will need to be booked prior to the retreat with some slots being offered on Friday from 10am. \n\n​There is plenty of free time to explore the ​exquisite walking tracks\, swim in the waterfall (or plunge pool) or to sit quietly listening to the wildlife and forest ambience.\n\nBoth Leah Suters and Sarah Downs are yoga teachers and massage therapists with decades of experience. Leah will be your Ayurvedic chef providing a sumptuous\, seasonal\, colourful and creative menu. Our mission is that your body\, mind and spirit are zinging after this retreat and you have daily tools to stay tuned into your heart when you return to the noise of general life.\n\nA retreat allows the practitioner to go deeper into their practice and internal world. It can offer the opportunity to evaluate\, let go and transform.\n\n\n“Intuition doesn’t scream.  It waits for stillness.” @journalofthesoul
URL:https://yogaaustralia.org.au/event-course/spring-2025-yoga-ritual-retreat-2/
LOCATION:CARAWIRRY FOREST ESCAPE\, 73 CABBAGE TREE RD\, MAIN CREEK\, NSW\, 2420\, Australia
CATEGORIES:Events
ATTACH;FMTTYPE=image/jpeg:https://yogaaustralia.org.au/wp-content/uploads/2025/05/Carawirry.jpeg
ORGANIZER;CN="SARAH DOWNS":MAILTO:blueysyoga@gmail.com
END:VEVENT
BEGIN:VEVENT
DTSTART;TZID=Australia/Melbourne:20251101T083000
DTEND;TZID=Australia/Melbourne:20251101T093000
DTSTAMP:20260422T075250
CREATED:20250328T015808Z
LAST-MODIFIED:20250328T015814Z
UID:10002200-1761985800-1761989400@yogaaustralia.org.au
SUMMARY:VEDIC CHANTING CLASSES
DESCRIPTION:Improve your memory and focus. –  Reduce mental agitation  –  Increase your breath capacity. –  Improve listening and communication skills –  Find and refine your own voice  –   Increase your self confidence. –  Strengthen you spiritual connection  –  Gain an overall sense of well-being!! \nVedic Chanting is yoga\, it is concentration\, meditation\, it is prāṇāyāma\, it is jñāna and it is bhakti. It is a commitment to learning something very deep. \nI am asked what the Vedas have to do with Yoga. Well\, the Vedas contain it\, the Vedas are themselves Yoga. That is what this is all about. \nThat said\, you don’t need anything to practice and learn. If you want to know something in you that will surprise you a lot\, this will surely interest you. It is not easy\, but it is enriching. It is not quick\, but it is one of the most beautiful things I have ever heard. \nChanting controls and transforms the Prāṇā\, it is a feeling of merging with the Universal vibration\, and it is rediscovering oneself anew in a practice very little known in the West. \nIn these classes you will learn how to pronounce Sanskrit\, you will learn the correct way to recite some Vedic mantras\, such as the popular Gāyatrī\, as it was taught in ancient times\, unchanged\, orally and following the rules of a South Indian lineage. \nYou don’t need to know how to sing\, or how to tune\,  in Vedic Chanting we only use 3 notes not 7 as in music \, this makes it accessible to everyone! \nChanting classes are conducted seated\, either on the floor or on a chair. It is important to feel comfortable so that you are able to focus only on the sound.  All chants will be taught through a “call and response” methodology\, using the aid of chant texts. The basic rules of Chanting\, along with general meanings of chants will be explained. \nThese classes are for you if you want to learn more about mantra practice. If you are a yoga teacher or student and you want to introduce Chanting in your classes or you want to work with mantras in your personal practice  \nhttps://dendupratyoga.com/vedic-chant/ \n 
URL:https://yogaaustralia.org.au/event-course/vedic-chanting-classes/2025-11-01/
LOCATION:DenDuprat Yoga Studio\, 1/96 mimosa road\, melbourne\, VIC\, 3163\, Australia
CATEGORIES:Events
ATTACH;FMTTYPE=image/jpeg:https://yogaaustralia.org.au/wp-content/uploads/2025/03/chanting-mantravalli-2.jpg
ORGANIZER;CN="Denise Duprat":MAILTO:dendupratyoga@gmail.com
END:VEVENT
BEGIN:VEVENT
DTSTART;TZID=Australia/Melbourne:20251101T093000
DTEND;TZID=Australia/Melbourne:20251101T114500
DTSTAMP:20260422T075250
CREATED:20251019T232429Z
LAST-MODIFIED:20251019T232433Z
UID:10002413-1761989400-1761997500@yogaaustralia.org.au
SUMMARY:ONLINE + In Person Special Event: Introduction to Polyvagal Immersion
DESCRIPTION:Ever wondered:\n\n 	What is Polyvagal Theory?\n 	What is the vagus nerve and how does it work?\n 	How does Polyvagal Theory relate to yoga and spiritual practice?\n 	What is the science behind it?\n\nThis event opens our month-long Polyvagal Immersion! With lectures\, mini practices\, learning activities\, and deep conversations\, you’ll walk away understanding yourself better and discovering your own “Rhythms of Regulation\,” allowing you to live life more calmly and connected.Led by: Jean Byrne\, PhD\, Mental Health Researcher\, Provisional Psychologist\, and Senior Yoga Teacher & Rob Schutze\, Senior Research Fellow\, Senior Yoga Teacher\, and Senior Clinical Psychologist\n\n \n\nCost:\nFree for all members\n$65 for non-members\n\n \n\n\nRefreshments provided.\nIn person + Online. Please book the ONLINE event to receive registration.
URL:https://yogaaustralia.org.au/event-course/online-in-person-special-event-introduction-to-polyvagal-immersion/
LOCATION:Yoga Space West Perth\, 6/79 Colin Street\, West Perth\, Western Australia\, 6005\, Australia
CATEGORIES:Events
ATTACH;FMTTYPE=image/png:https://yogaaustralia.org.au/wp-content/uploads/2025/10/1-4.png
ORGANIZER;CN="Jean Byrne PhD":MAILTO:info@yogaspace.com.au
GEO:-31.9478262;115.8419967
X-APPLE-STRUCTURED-LOCATION;VALUE=URI;X-ADDRESS=Yoga Space West Perth 6/79 Colin Street West Perth Western Australia 6005 Australia;X-APPLE-RADIUS=500;X-TITLE=6/79 Colin Street:geo:115.8419967,-31.9478262
END:VEVENT
BEGIN:VEVENT
DTSTART;TZID=Australia/Melbourne:20251101T160000
DTEND;TZID=Australia/Melbourne:20251107T110000
DTSTAMP:20260422T075250
CREATED:20250605T020410Z
LAST-MODIFIED:20250605T020415Z
UID:10002325-1762012800-1762513200@yogaaustralia.org.au
SUMMARY:The Way of the Goddess Retreat
DESCRIPTION:he Way of the Goddess retreat\, 𝘚𝘩𝘢𝘬𝘵𝘪 is the cosmic energy of the universe\, the embodiment of power and vitality\, animating and enlivening all of creation. This retreat is for those who feel called to deepen their understanding of the Goddess\, exploring her mythology\, stories and timeless wisdom to see how her presence shapes and guides our lives. She is the paradox of life itself…gentle\, fierce\, nurturing and destructive. To live harmoniously\, we must honour every facet of her being\, for in doing so\, we honour all parts of ourselves. When we invoke the Goddess within\, her qualities awaken in us. She guides us to cross thresholds with grace\, reclaim the sacred in the mundane\, let go of the well-worn story of not enoughness\, and embrace and take action on our desires and longings that we often put to the side. As we practice and connect with her energy\, we expand our capacity to hold more of what life puts on our plates. Coming into a relationship with this energy means knowing when to surrender\, when to hold on\, when to plant seeds\, when to harvest\, and how to break free from tension and old stories. > 𝘋𝘢𝘪𝘭𝘺 𝘌𝘮𝘣𝘰𝘥𝘪𝘮𝘦𝘯𝘵 & 𝘠𝘰𝘨𝘢 𝘗𝘳𝘢𝘤𝘵𝘪𝘤𝘦𝘴 > 𝘚𝘰𝘶𝘯𝘥 𝘏𝘦𝘢𝘭𝘪𝘯𝘨 𝘔𝘦𝘥𝘪𝘤𝘪𝘯𝘦 > 𝘐𝘮𝘮𝘦𝘳𝘴𝘪𝘰𝘯 𝘪𝘯 𝘕𝘢𝘵𝘶𝘳𝘦 > 𝘒𝘪𝘳𝘵𝘢𝘯 & 𝘉𝘩𝘢𝘬𝘵𝘪 > 𝘊𝘦𝘭𝘦𝘣𝘳𝘢𝘵𝘪𝘰𝘯 & 𝘊𝘦𝘳𝘦𝘮𝘰𝘯𝘺
URL:https://yogaaustralia.org.au/event-course/the-way-of-the-goddess-retreat/
LOCATION:Gaia Oasis Beach Resort North Bali\, Jalan Singaraja-Amlapura\, Dusun Tegal Sumaga\,\, Tejakula\, Buleleneg Regency\, Bali\, 81173
CATEGORIES:Events
ATTACH;FMTTYPE=image/png:https://yogaaustralia.org.au/wp-content/uploads/2025/06/the-way-of-the-goddess-scaled.png
END:VEVENT
END:VCALENDAR