BEGIN:VCALENDAR
VERSION:2.0
PRODID:-//Yoga Australia - ECPv6.13.1//NONSGML v1.0//EN
CALSCALE:GREGORIAN
METHOD:PUBLISH
X-WR-CALNAME:Yoga Australia
X-ORIGINAL-URL:https://yogaaustralia.org.au
X-WR-CALDESC:Events for Yoga Australia
REFRESH-INTERVAL;VALUE=DURATION:PT1H
X-Robots-Tag:noindex
X-PUBLISHED-TTL:PT1H
BEGIN:VTIMEZONE
TZID:Australia/Melbourne
BEGIN:STANDARD
TZOFFSETFROM:+1100
TZOFFSETTO:+1000
TZNAME:AEST
DTSTART:20240406T160000
END:STANDARD
BEGIN:DAYLIGHT
TZOFFSETFROM:+1000
TZOFFSETTO:+1100
TZNAME:AEDT
DTSTART:20241005T160000
END:DAYLIGHT
BEGIN:STANDARD
TZOFFSETFROM:+1100
TZOFFSETTO:+1000
TZNAME:AEST
DTSTART:20250405T160000
END:STANDARD
BEGIN:DAYLIGHT
TZOFFSETFROM:+1000
TZOFFSETTO:+1100
TZNAME:AEDT
DTSTART:20251004T160000
END:DAYLIGHT
END:VTIMEZONE
BEGIN:VEVENT
DTSTART;TZID=Australia/Melbourne:20241127T080000
DTEND;TZID=Australia/Melbourne:20251130T170000
DTSTAMP:20260425T011145
CREATED:20230523T131513Z
LAST-MODIFIED:20241127T051821Z
UID:10000355-1732694400-1764522000@yogaaustralia.org.au
SUMMARY:Find Balance through Sound (self paced)
DESCRIPTION:Self Paced event. Find a deeper connection to stillness and life through the yoga of sound. Chanting is known to: Increase breath control\n\nInfluence heart rate\n\nLower blood pressure\n\nEase muscle tension\n\nImprove digestion\n\nReduce pain and assist healing\n\nActivate different part of the brain\n\nStimulate learning and memory\n\nHelp us focus on positive words and phrases\, involving gratitude and peace\n\nUnite people and enhance a sense of connection with others\n\nHelp prepare for pranayama\, meditation or prayer\n\nMay reduce snoring by toning the muscles of the throatThrough practice\, we draw senses inward to quiet the mind. In this stillness\, we can experience more subtle aspects of being that resides beyond the mind; a oneness and wholeness with all of life and a sense of profound peace. Mantra is a reminder to treat our words as sacred\, creative and divine.   What we think and say\, we create.  Inspired by Deepak Chopra’s ‘Seven Spiritual Laws of Success’\, these 10-15 minute seated practices offer reflection\, self enquiry\, connection and stillness through mantra repetition (japa) and meditation.  There are 7 recordings in this series which run through my ‘Radiant Wellbeing’ APP so you can practice anywhere\, anytime.
URL:https://yogaaustralia.org.au/event-course/find-balance-through-sound-self-paced/
LOCATION:NSW
CATEGORIES:Events,Online,Short Course (1 week or more)
ATTACH;FMTTYPE=image/jpeg:https://yogaaustralia.org.au/wp-content/uploads/2023/05/iStock-1253659086-300x225-1.jpg
ORGANIZER;CN="Gabrielle Boswell":MAILTO:gabrielle@yogawithgabrielle.com.au
END:VEVENT
BEGIN:VEVENT
DTSTART;TZID=Australia/Melbourne:20241127T080000
DTEND;TZID=Australia/Melbourne:20251130T170000
DTSTAMP:20260425T011145
CREATED:20230523T131815Z
LAST-MODIFIED:20241127T050311Z
UID:10000356-1732694400-1764522000@yogaaustralia.org.au
SUMMARY:iRest yoga nidra 6 week short course (self paced)
DESCRIPTION:This deep relaxation course will introduce you to a modern system of yoga nidra practice which can assist in the promotion of physical and mental health and wellbeing. iRest Integrative Restoration is a form of meditative self-inquiry stemming from the teachings of Yoga which can assist in promoting deep relaxation throughout mind and body. The iRest approach has been the subject of significant research and found valuable in the treatment of insomnia\, trauma\, anxiety\, depression\, anger management\, and chronic pain. iRest nourishes qualities such as joy\, peacefulness\, empathy\, forgiveness\, patience and loving kindness towards yourself and others. iRest practices directly address the way you respond to your thoughts and emotions\, enabling you to recognise the innate peace of mind which can be present amidst all of life’s challenging circumstances. You will receive  – weekly 15-20 minute pre-recorded video lectures plus a 20-35 minute iRest audio practice\n\naccess to the course via my Radiant Wellbeing APP\n\nability to message me directly with questions about the practice or the course via the Community tab within the APP\n\nIncludes a complete iRest® yoga nidra workbook/manual.https://yogawithgabrielle.com.au/product/irest-6-week-yoga-nidra-meditation-course-self-paced
URL:https://yogaaustralia.org.au/event-course/irest-yoga-nidra-6-week-short-course-self-paced/
LOCATION:NSW
CATEGORIES:Events,Short Course (1 week or more)
ATTACH;FMTTYPE=image/jpeg:https://yogaaustralia.org.au/wp-content/uploads/2023/05/Rumi-centre-of-the-heart.jpg
ORGANIZER;CN="Gabrielle Boswell":MAILTO:gabrielle@yogawithgabrielle.com.au
END:VEVENT
BEGIN:VEVENT
DTSTART;TZID=Australia/Melbourne:20251123T150000
DTEND;TZID=Australia/Melbourne:20251129T090000
DTSTAMP:20260425T011145
CREATED:20250711T012608Z
LAST-MODIFIED:20250711T012614Z
UID:10002347-1763910000-1764406800@yogaaustralia.org.au
SUMMARY:Flo Fenton's Byron Hinterland Retreat-Relax and Renew
DESCRIPTION:At the end of another busy year\, take this time out to relax\, renew and refresh your spirit by going deeply within. For 6 nights and 5 days\, immerse in yoga and meditation whilst soaking the peace and serenity of the Byron Hinterland!\n\nOn this retreat\, as well as 2-3 x daily yoga and meditation practices in the fabulous yoga shala\, we will be treated to three meals a day of the fabulous cuisine provided by Ronit of Open Table\, who specialises in Mediterranean and Middle Eastern fare.\n\nThis retreat will not only leave you feeling relaxed and in touch with yourself\, having deepened your yoga and meditation practice\, but also full of good feelings of connection with others on the same path.
URL:https://yogaaustralia.org.au/event-course/flo-fentons-byron-hinterland-retreat-relax-and-renew/
LOCATION:Wybalena Organic Farm\, 789 The Pocket Rd\, The Pocket\, NSW\, 2483\, Australia
CATEGORIES:Events
ATTACH;FMTTYPE=image/jpeg:https://yogaaustralia.org.au/wp-content/uploads/2025/07/YogaStudio1.jpg
ORGANIZER;CN="Intouch Yoga-Flo Fenton":MAILTO:flo@intouchyogabyronbay.com
GEO:-28.5065599;153.4554419
X-APPLE-STRUCTURED-LOCATION;VALUE=URI;X-ADDRESS=Wybalena Organic Farm 789 The Pocket Rd The Pocket NSW 2483 Australia;X-APPLE-RADIUS=500;X-TITLE=789 The Pocket Rd:geo:153.4554419,-28.5065599
END:VEVENT
BEGIN:VEVENT
DTSTART;TZID=Australia/Melbourne:20251129T080000
DTEND;TZID=Australia/Melbourne:20251130T170000
DTSTAMP:20260425T011145
CREATED:20250928T222337Z
LAST-MODIFIED:20251021T021558Z
UID:10002393-1764403200-1764522000@yogaaustralia.org.au
SUMMARY:Practical Sanskrit in Modern Yoga - an introduction
DESCRIPTION:Discover and connect with Sanskrit\, the language of yoga \n  \nWho is this workshop for? \n\nYoga teachers or practitioners\, who want to connect with Sanskrit in a practical\, meaningful and friendly way\nComplete beginners are welcome – no prior knowledge of Sanskrit or other languages required\n\n  \nWorkshop details \n\nFormat: Live online via Zoom (not recorded)\nDates: November 29 and 30\nDuration: Two sessions\, each 2 hours\nFacilitator: Julian Singh (a Certified Yoga Teacher\, and 2 years formal Sanskrit study)\nBring: A notebook and pen/pencil. Materials will be shared during the class.\n\nWhat you’ll learn \n\nThe history and significance of Sanskrit in yoga traditions\nIntroduction to the Devanagari script and alphabet\nKey pronunciation cues\nCommon yoga terms – their meaning\, roots\, and pronunciation\nGuided writing practice of Devanagari\nSuggestions and resources for further exploration\n\nThis workshop will run 3-5pm on both 29 Nov and 30 Nov\, for a total of 4 hours.The fee for YA members is $76\, for non-YA members it is $95.
URL:https://yogaaustralia.org.au/event-course/practical-sanskrit-in-modern-yoga-an-introduction/
LOCATION:100% online\, Davidson\, NSW\, 2085\, Australia
CATEGORIES:Events
ATTACH;FMTTYPE=image/jpeg:https://yogaaustralia.org.au/wp-content/uploads/2025/09/PXL_20241220_055922004-1-scaled.jpg
END:VEVENT
BEGIN:VEVENT
DTSTART;TZID=Australia/Melbourne:20251129T083000
DTEND;TZID=Australia/Melbourne:20251129T093000
DTSTAMP:20260425T011145
CREATED:20250328T015808Z
LAST-MODIFIED:20250328T015814Z
UID:10002204-1764405000-1764408600@yogaaustralia.org.au
SUMMARY:VEDIC CHANTING CLASSES
DESCRIPTION:Improve your memory and focus. –  Reduce mental agitation  –  Increase your breath capacity. –  Improve listening and communication skills –  Find and refine your own voice  –   Increase your self confidence. –  Strengthen you spiritual connection  –  Gain an overall sense of well-being!! \nVedic Chanting is yoga\, it is concentration\, meditation\, it is prāṇāyāma\, it is jñāna and it is bhakti. It is a commitment to learning something very deep. \nI am asked what the Vedas have to do with Yoga. Well\, the Vedas contain it\, the Vedas are themselves Yoga. That is what this is all about. \nThat said\, you don’t need anything to practice and learn. If you want to know something in you that will surprise you a lot\, this will surely interest you. It is not easy\, but it is enriching. It is not quick\, but it is one of the most beautiful things I have ever heard. \nChanting controls and transforms the Prāṇā\, it is a feeling of merging with the Universal vibration\, and it is rediscovering oneself anew in a practice very little known in the West. \nIn these classes you will learn how to pronounce Sanskrit\, you will learn the correct way to recite some Vedic mantras\, such as the popular Gāyatrī\, as it was taught in ancient times\, unchanged\, orally and following the rules of a South Indian lineage. \nYou don’t need to know how to sing\, or how to tune\,  in Vedic Chanting we only use 3 notes not 7 as in music \, this makes it accessible to everyone! \nChanting classes are conducted seated\, either on the floor or on a chair. It is important to feel comfortable so that you are able to focus only on the sound.  All chants will be taught through a “call and response” methodology\, using the aid of chant texts. The basic rules of Chanting\, along with general meanings of chants will be explained. \nThese classes are for you if you want to learn more about mantra practice. If you are a yoga teacher or student and you want to introduce Chanting in your classes or you want to work with mantras in your personal practice  \nhttps://dendupratyoga.com/vedic-chant/ \n 
URL:https://yogaaustralia.org.au/event-course/vedic-chanting-classes/2025-11-29/
LOCATION:DenDuprat Yoga Studio\, 1/96 mimosa road\, melbourne\, VIC\, 3163\, Australia
CATEGORIES:Events
ATTACH;FMTTYPE=image/jpeg:https://yogaaustralia.org.au/wp-content/uploads/2025/03/chanting-mantravalli-2.jpg
ORGANIZER;CN="Denise Duprat":MAILTO:dendupratyoga@gmail.com
END:VEVENT
BEGIN:VEVENT
DTSTART;TZID=Australia/Melbourne:20251129T093000
DTEND;TZID=Australia/Melbourne:20251129T123000
DTSTAMP:20260425T011145
CREATED:20251105T015804Z
LAST-MODIFIED:20251105T015808Z
UID:10002439-1764408600-1764419400@yogaaustralia.org.au
SUMMARY:Workshop: Shoulders\, shoulder blades and Arms
DESCRIPTION: Workshop at Mission Beach\, North Queensalnd: Shoulders\, shoulder blades and Arms\n\nShoulders: need to be firm yet mobile.   \n\nThe Shoulder blades can draw downward\, move inward towards the spine or push flat onto the back ribs to open the chest. \n\nThe Arms care crutial for reaching out to and manipulating objects in our world. Consist of upperarm\, lower arm\, wrist and hand.\n\nThe workshop will look at how to improve shoulder posture and alignment. The action of the arms; keeping the elbows straight and the upper arm drawn back into the socket. Action of the shoulder blades in lifting the arms or taking them back or extending them sideways. Also learning to relax the deltoids …  .  ‘you don’t need to carry the weight of the world on your shoulders.’
URL:https://yogaaustralia.org.au/event-course/workshop-shoulders-shoulder-blades-and-arms/
LOCATION:Progress Hall\, Porters Promenade\, MISSION BEACH\, NORTH QUEENSLAND\, 4852\, Australia
CATEGORIES:Events
ATTACH;FMTTYPE=image/jpeg:https://yogaaustralia.org.au/wp-content/uploads/2025/11/jpeg-shoulders-shoulder-blades-arms.jpg
ORGANIZER;CN="Jan Watson":MAILTO:yogajan@yogac.com.au
END:VEVENT
END:VCALENDAR