BEGIN:VCALENDAR
VERSION:2.0
PRODID:-//Yoga Australia - ECPv6.13.1//NONSGML v1.0//EN
CALSCALE:GREGORIAN
METHOD:PUBLISH
X-WR-CALNAME:Yoga Australia
X-ORIGINAL-URL:https://yogaaustralia.org.au
X-WR-CALDESC:Events for Yoga Australia
REFRESH-INTERVAL;VALUE=DURATION:PT1H
X-Robots-Tag:noindex
X-PUBLISHED-TTL:PT1H
BEGIN:VTIMEZONE
TZID:Australia/Melbourne
BEGIN:STANDARD
TZOFFSETFROM:+1100
TZOFFSETTO:+1000
TZNAME:AEST
DTSTART:20260404T160000
END:STANDARD
BEGIN:DAYLIGHT
TZOFFSETFROM:+1000
TZOFFSETTO:+1100
TZNAME:AEDT
DTSTART:20261003T160000
END:DAYLIGHT
END:VTIMEZONE
BEGIN:VEVENT
DTSTART;TZID=Australia/Melbourne:20260918T000000
DTEND;TZID=Australia/Melbourne:20260927T235959
DTSTAMP:20260424T221403
CREATED:20260301T223308Z
LAST-MODIFIED:20260301T223314Z
UID:10002710-1789689600-1790553599@yogaaustralia.org.au
SUMMARY:LIVE HEALTHIER LONGER
DESCRIPTION:CELEBRATE THE START OF NEW LIFE.\nRelax\, Rejuvenate\, and Restore\n\nSpring detox retreat with daily yoga\, meditation\, deep relaxation\, Ayurvedic lectures. Empowering you to stay healthy and functional\, all life long.\n\nThis could be the health breakthrough you have been waiting for.\n*DETOX MEDICINES AVAILABLE AS OPTIONAL EXTRAS\n\nExtras & Notes: \n\n 	Personalized dietary options are available for an additional fee. We are happy to accommodate gluten-free\, vegan\, dairy-free preferences\, as well as specific allergies\, with advance notice to ensure the best possible experience.\n 	Indulge in authentic Ayurvedic massages\, treatments\, and personal consultations during your retreat. To ensure availability and a tailored experience\, pre-booking of Ayurvedic treatments prior to the retreat is required.
URL:https://yogaaustralia.org.au/event-course/live-healthier-longer/
LOCATION:Nirvana Wellbeing Retreat\, 87 Binna Burra Rd\, Beechmont\, Queensland\, 4211\, Australia
CATEGORIES:Events
ATTACH;FMTTYPE=image/png:https://yogaaustralia.org.au/wp-content/uploads/2026/02/LIVE-HEALTHIER-LONGER_September.png
ORGANIZER;CN="Shanti Gowans":MAILTO:admin@healthinstitute.edu.au
END:VEVENT
BEGIN:VEVENT
DTSTART;TZID=Australia/Melbourne:20260919T000000
DTEND;TZID=Australia/Melbourne:20260919T235959
DTSTAMP:20260424T221403
CREATED:20260209T011621Z
LAST-MODIFIED:20260209T011624Z
UID:10002628-1789776000-1789862399@yogaaustralia.org.au
SUMMARY:DAY RETREAT | “Body and Mind Release”
DESCRIPTION:Whole body and mind releasing with gentle\, intentional movement and yoga\, breath work\, and guided practices for deep rest. With these practices\, you can relieve common aches and pains\, deepen your presence\, and learn how to embody the stillness\, peace\, and kindness we seek. Includes a delicious Ayurvedic lunch and afternoon tea.\n\nExtras & Notes: \n\n 	Personalized dietary options are available for an additional fee. We are happy to accommodate gluten-free\, vegan\, dairy-free preferences\, as well as specific allergies\, with advance notice to ensure the best possible experience.\n 	Indulge in authentic Ayurvedic massages\, treatments\, and personal consultations during your retreat. To ensure availability and a tailored experience\, pre-booking of Ayurvedic treatments prior to the retreat is required.\n\n2026 Dates:\n\nFeb 21\n\nMarch 7\n\nMay 9\n\nJuly 4\n\nAug 29\n\nSept 19\n\nOct 24\n\nNov 7
URL:https://yogaaustralia.org.au/event-course/day-retreat-body-and-mind-release-6/
LOCATION:Nirvana Wellbeing Retreat\, 87 Binna Burra Rd\, Beechmont\, Queensland\, 4211\, Australia
CATEGORIES:Events
ATTACH;FMTTYPE=image/png:https://yogaaustralia.org.au/wp-content/uploads/2026/02/September-19.png
ORGANIZER;CN="Shanti Gowans":MAILTO:admin@healthinstitute.edu.au
END:VEVENT
BEGIN:VEVENT
DTSTART;TZID=Australia/Melbourne:20260919T140000
DTEND;TZID=Australia/Melbourne:20260919T160000
DTSTAMP:20260424T221403
CREATED:20251119T235940Z
LAST-MODIFIED:20251119T235947Z
UID:10002463-1789826400-1789833600@yogaaustralia.org.au
SUMMARY:Yoga Sound and Breath Retreats
DESCRIPTION:A two hour event where we explore Gentle Slow Flow Yoga to open the body and create space for release with the Breath whilst being immersed in the healing vibrations of Sound. Concluding with open conversation and connection over a delocious afternoon tea including Pruffels with gluten free options. Third Saturday of every month 2-4pm 314 Church St\, Richmond The iconic hall behind Gallery 314\, 314 Church St\, Richmond\, VIC.  General Tickets: $55\,  Seniors/Concession Tickets: $40\, First Nations $25. BYO: Yoga Mat\, Blanket\, Pillow\, Water bottle or any other props to enjoy your experience.
URL:https://yogaaustralia.org.au/event-course/yoga-sound-and-breath-retreats-2/2026-09-19/
LOCATION:Clifton Hall\, 314 Church St\, Richmond\, Melbourne\, VIC\, 3121\, Australia
CATEGORIES:Events
ATTACH;FMTTYPE=image/jpeg:https://yogaaustralia.org.au/wp-content/uploads/2025/11/534427757_733038719496358_3522793865285089471_n.jpg
ORGANIZER;CN="Georgina Mangan-Georgiou":MAILTO:goo.goona@hotmail.com
END:VEVENT
END:VCALENDAR