BEGIN:VCALENDAR
VERSION:2.0
PRODID:-//Yoga Australia - ECPv6.13.1//NONSGML v1.0//EN
CALSCALE:GREGORIAN
METHOD:PUBLISH
X-WR-CALNAME:Yoga Australia
X-ORIGINAL-URL:https://yogaaustralia.org.au
X-WR-CALDESC:Events for Yoga Australia
REFRESH-INTERVAL;VALUE=DURATION:PT1H
X-Robots-Tag:noindex
X-PUBLISHED-TTL:PT1H
BEGIN:VTIMEZONE
TZID:Australia/Melbourne
BEGIN:STANDARD
TZOFFSETFROM:+1100
TZOFFSETTO:+1000
TZNAME:AEST
DTSTART:20260404T160000
END:STANDARD
BEGIN:DAYLIGHT
TZOFFSETFROM:+1000
TZOFFSETTO:+1100
TZNAME:AEDT
DTSTART:20261003T160000
END:DAYLIGHT
END:VTIMEZONE
BEGIN:VEVENT
DTSTART;TZID=Australia/Melbourne:20261018T080000
DTEND;TZID=Australia/Melbourne:20261024T170000
DTSTAMP:20260424T221413
CREATED:20260413T233857Z
LAST-MODIFIED:20260413T233902Z
UID:10002765-1792310400-1792861200@yogaaustralia.org.au
SUMMARY:"Let's Drift Away" Yoga Retreat - Nusa Lembongan
DESCRIPTION:Join me for this beautiful week of yoga\, rest and nourishment exploring the beautiful island  \nand waters around Nusa Lembongan\, Bali
URL:https://yogaaustralia.org.au/event-course/lets-drift-away-yoga-retreat-nusa-lembongan/
LOCATION:Nusa Lembongan\, Bali\, Nusa Lembongan\, Indonesia
CATEGORIES:Events
ATTACH;FMTTYPE=image/jpeg:https://yogaaustralia.org.au/wp-content/uploads/2026/04/1D02BFF2-9A82-4FF7-955E-3CC0B50F242B_1_105_c.jpeg
ORGANIZER;CN="Kaz Bishton":MAILTO:karen.bishton@bigpond.com
END:VEVENT
END:VCALENDAR