BEGIN:VCALENDAR
VERSION:2.0
PRODID:-//Yoga Australia - ECPv6.13.1//NONSGML v1.0//EN
CALSCALE:GREGORIAN
METHOD:PUBLISH
X-WR-CALNAME:Yoga Australia
X-ORIGINAL-URL:https://yogaaustralia.org.au
X-WR-CALDESC:Events for Yoga Australia
REFRESH-INTERVAL;VALUE=DURATION:PT1H
X-Robots-Tag:noindex
X-PUBLISHED-TTL:PT1H
BEGIN:VTIMEZONE
TZID:Australia/Melbourne
BEGIN:STANDARD
TZOFFSETFROM:+1100
TZOFFSETTO:+1000
TZNAME:AEST
DTSTART:20260404T160000
END:STANDARD
BEGIN:DAYLIGHT
TZOFFSETFROM:+1000
TZOFFSETTO:+1100
TZNAME:AEDT
DTSTART:20261003T160000
END:DAYLIGHT
END:VTIMEZONE
BEGIN:VEVENT
DTSTART;TZID=Australia/Melbourne:20260221T113000
DTEND;TZID=Australia/Melbourne:20260221T143000
DTSTAMP:20260426T002118
CREATED:20260115T215937Z
LAST-MODIFIED:20260115T215940Z
UID:10002581-1771673400-1771684200@yogaaustralia.org.au
SUMMARY:Sound Healing Level 1 Training
DESCRIPTION:Facilitated by Angela Black Wellness\n✨ Discover the art of sound immersion and learn how to weave the healing vibrations of singing bowls and complementary instruments into your yoga\, meditation\, or wellness offerings.\n\nWhat You’ll Learn\n\n 	Safe\, ethical\, and practical facilitation skills for group sound immersions\n 	Foundational techniques: soft strike\, rim rimming\, and continuous resonance\n 	How to prepare your space and create a calm\, accessible environment\n 	Screening participants for contraindications and responding to incidents with care\n 	Structuring and leading a 30–60 minute sound bath immersion\n 	Integrating instruments such as crystal bowls\, Tibetan bowls\, chimes\, drums\, and more\n\nWhy Join?\n\n 	No musical background required — just curiosity and care\n 	Gain confidence in delivering sound therapy sessions safely and ethically\n 	Learn to hold space with trauma-informed awareness and cultural sensitivity\n 	Receive original course materials designed exclusively for Angela Black Wellness trainees\n\nTraining Format\n\n🕒 Compact 3-hour immersion\, with take home manual\n📍 Includes practical labs\, role play\, and observed micro-teach sessions\n🎶 Hands-on experience with a variety of instruments\n\nWho Is It For?\n\nYoga teachers\, meditation facilitators\, Reiki practitioners\, wellness professionals\, and anyone seeking to enrich their practice with sound therapy.\n\nImportant Notes\n\nAngela Black Wellness facilitators are not licensed health professionals. This training is complementary to traditional medical care. Please consult your health professional if you have medical concerns before participating.\n\n🌙 Step into the world of vibration\, resonance\, and healing harmonics.\n\nReserve your place today and begin your journey into Sound Healing.\n\nDate: Saturday 21 February 2026\nTime: 11.30am – 2.30pm\nLocation: Cafe Mojo Community Centre\, Mundaring\n\n$189 a 3hr workshop\, manual and ongoing support.\n\nRegistration required\, limited spaces.
URL:https://yogaaustralia.org.au/event-course/sound-healing-level-1-training/
LOCATION:Cafe Mojo Community Centre\, Mundaring\, 16 Craig Street\, Mundaring\, Perth\, Western Australia\, 6073\, Australia
CATEGORIES:Events
ATTACH;FMTTYPE=image/png:https://yogaaustralia.org.au/wp-content/uploads/2026/01/Sound-Healing-for-Yoga-Teachers-Facebook-Post.png
ORGANIZER;CN="AngelaBlackWellness":MAILTO:angelablackwellness@outlook.com
END:VEVENT
END:VCALENDAR