BEGIN:VCALENDAR
VERSION:2.0
PRODID:-//Yoga Australia - ECPv6.13.1//NONSGML v1.0//EN
CALSCALE:GREGORIAN
METHOD:PUBLISH
X-ORIGINAL-URL:https://yogaaustralia.org.au
X-WR-CALDESC:Events for Yoga Australia
REFRESH-INTERVAL;VALUE=DURATION:PT1H
X-Robots-Tag:noindex
X-PUBLISHED-TTL:PT1H
BEGIN:VTIMEZONE
TZID:Australia/Melbourne
BEGIN:STANDARD
TZOFFSETFROM:+1100
TZOFFSETTO:+1000
TZNAME:AEST
DTSTART:20240406T160000
END:STANDARD
BEGIN:DAYLIGHT
TZOFFSETFROM:+1000
TZOFFSETTO:+1100
TZNAME:AEDT
DTSTART:20241005T160000
END:DAYLIGHT
END:VTIMEZONE
BEGIN:VEVENT
DTSTART;TZID=Australia/Melbourne:20240818T140000
DTEND;TZID=Australia/Melbourne:20240819T170000
DTSTAMP:20260425T010313
CREATED:20240815T022745Z
LAST-MODIFIED:20240829T031616Z
UID:10001597-1723989600-1724086800@yogaaustralia.org.au
SUMMARY:Happiness Program
DESCRIPTION:Workshop Contents\nThe Art of Living Happiness Program spans a few hours daily\, over three consecutive days. \n\n\n\n\n\n\n\n\nSecrets of the Breath\nThe heart of The Happiness Program is a series of yogic breathing techniques\, including the Sudarshan Kriya\, which reduce your stress and raise your energy\, bringing you back to a clear and positive state of mind. \n\n\n\n\n\n\n\n\nMastering the Mind\nUnderstanding the nature of the mind gives you a greater perspective on life that enables you to not get bothered by issues that used to create frustration\, impatience\, worry and more. \n\n\n\n\n\n\n\n\n\n\nScientifically Backed Results\nThe scientifically indicated benefits of the practices you’ll learn include higher levels of optimism\, greater levels of antioxidant enzymes\, stronger immunity\, improved emotional regulation and more. \n\n\n\n\n\n\n\n\nGuided Yoga & Meditation\nLearn easy yoga poses you can incorporate into your day for greater health\, focus and relaxation. Enjoy unique guided meditations and get a taste of the beauty within.
URL:https://yogaaustralia.org.au/event-course/happiness-program/2024-08-18/
LOCATION:SRI SRI YOGA\, 40 Tullow Gardens\, DARCH\, WA\, 6065\, Australia
CATEGORIES:Events
ATTACH;FMTTYPE=image/jpeg:https://yogaaustralia.org.au/wp-content/uploads/2024/08/5th-July-16th-Aug-2024-Happiness-.jpg
ORGANIZER;CN="AOL":MAILTO:skpaliwal@hotmail.com
END:VEVENT
BEGIN:VEVENT
DTSTART;TZID=Australia/Melbourne:20240817T140000
DTEND;TZID=Australia/Melbourne:20240818T170000
DTSTAMP:20260425T010313
CREATED:20240815T022745Z
LAST-MODIFIED:20240829T031616Z
UID:10001596-1723903200-1724000400@yogaaustralia.org.au
SUMMARY:Happiness Program
DESCRIPTION:Workshop Contents\nThe Art of Living Happiness Program spans a few hours daily\, over three consecutive days. \n\n\n\n\n\n\n\n\nSecrets of the Breath\nThe heart of The Happiness Program is a series of yogic breathing techniques\, including the Sudarshan Kriya\, which reduce your stress and raise your energy\, bringing you back to a clear and positive state of mind. \n\n\n\n\n\n\n\n\nMastering the Mind\nUnderstanding the nature of the mind gives you a greater perspective on life that enables you to not get bothered by issues that used to create frustration\, impatience\, worry and more. \n\n\n\n\n\n\n\n\n\n\nScientifically Backed Results\nThe scientifically indicated benefits of the practices you’ll learn include higher levels of optimism\, greater levels of antioxidant enzymes\, stronger immunity\, improved emotional regulation and more. \n\n\n\n\n\n\n\n\nGuided Yoga & Meditation\nLearn easy yoga poses you can incorporate into your day for greater health\, focus and relaxation. Enjoy unique guided meditations and get a taste of the beauty within.
URL:https://yogaaustralia.org.au/event-course/happiness-program/2024-08-17/
LOCATION:SRI SRI YOGA\, 40 Tullow Gardens\, DARCH\, WA\, 6065\, Australia
CATEGORIES:Events
ATTACH;FMTTYPE=image/jpeg:https://yogaaustralia.org.au/wp-content/uploads/2024/08/5th-July-16th-Aug-2024-Happiness-.jpg
ORGANIZER;CN="AOL":MAILTO:skpaliwal@hotmail.com
END:VEVENT
BEGIN:VEVENT
DTSTART;TZID=Australia/Melbourne:20240816T140000
DTEND;TZID=Australia/Melbourne:20240817T170000
DTSTAMP:20260425T010313
CREATED:20240815T022745Z
LAST-MODIFIED:20240829T031616Z
UID:10001595-1723816800-1723914000@yogaaustralia.org.au
SUMMARY:Happiness Program
DESCRIPTION:Workshop Contents\nThe Art of Living Happiness Program spans a few hours daily\, over three consecutive days. \n\n\n\n\n\n\n\n\nSecrets of the Breath\nThe heart of The Happiness Program is a series of yogic breathing techniques\, including the Sudarshan Kriya\, which reduce your stress and raise your energy\, bringing you back to a clear and positive state of mind. \n\n\n\n\n\n\n\n\nMastering the Mind\nUnderstanding the nature of the mind gives you a greater perspective on life that enables you to not get bothered by issues that used to create frustration\, impatience\, worry and more. \n\n\n\n\n\n\n\n\n\n\nScientifically Backed Results\nThe scientifically indicated benefits of the practices you’ll learn include higher levels of optimism\, greater levels of antioxidant enzymes\, stronger immunity\, improved emotional regulation and more. \n\n\n\n\n\n\n\n\nGuided Yoga & Meditation\nLearn easy yoga poses you can incorporate into your day for greater health\, focus and relaxation. Enjoy unique guided meditations and get a taste of the beauty within.
URL:https://yogaaustralia.org.au/event-course/happiness-program/2024-08-16/
LOCATION:SRI SRI YOGA\, 40 Tullow Gardens\, DARCH\, WA\, 6065\, Australia
CATEGORIES:Events
ATTACH;FMTTYPE=image/jpeg:https://yogaaustralia.org.au/wp-content/uploads/2024/08/5th-July-16th-Aug-2024-Happiness-.jpg
ORGANIZER;CN="AOL":MAILTO:skpaliwal@hotmail.com
END:VEVENT
END:VCALENDAR