BEGIN:VCALENDAR
VERSION:2.0
PRODID:-//Yoga Australia - ECPv6.13.1//NONSGML v1.0//EN
CALSCALE:GREGORIAN
METHOD:PUBLISH
X-ORIGINAL-URL:https://yogaaustralia.org.au
X-WR-CALDESC:Events for Yoga Australia
REFRESH-INTERVAL;VALUE=DURATION:PT1H
X-Robots-Tag:noindex
X-PUBLISHED-TTL:PT1H
BEGIN:VTIMEZONE
TZID:Australia/Melbourne
BEGIN:STANDARD
TZOFFSETFROM:+1100
TZOFFSETTO:+1000
TZNAME:AEST
DTSTART:20240406T160000
END:STANDARD
BEGIN:DAYLIGHT
TZOFFSETFROM:+1000
TZOFFSETTO:+1100
TZNAME:AEDT
DTSTART:20241005T160000
END:DAYLIGHT
END:VTIMEZONE
BEGIN:VEVENT
DTSTART;TZID=Australia/Melbourne:20240601T130000
DTEND;TZID=Australia/Melbourne:20240601T160000
DTSTAMP:20260425T010227
CREATED:20240521T230952Z
LAST-MODIFIED:20240521T230958Z
UID:10001526-1717246800-1717257600@yogaaustralia.org.au
SUMMARY:Asana partner workshop
DESCRIPTION:SATURDAY AFTERNOON WORKSHOP\, 1ST JUNE. \n1 TILL 4 P.M.     INVESTMENT $75. \nThe afternoon will explore different groups of Asana and how they affect our mood and physiology. \nWe will also be exploring some partner work. Simply using our own\, and others’ bodies as an animated prop. \nExample; back to back in seated cross legs – immediately brings our awareness to back brain\, feeling and not so much doing. \nThis wonderful way of working enhances our perception and sensitivity. \nWe will finish with rest and Pranayama and readings. \nHope you can join us. \nContact JULIE on 0432 224520 if you have any inquiry. \nNAMASTE
URL:https://yogaaustralia.org.au/event-course/asana-partner-workshop/
LOCATION:34 Murwillumbah St\, Murwillumbah NSW 2484\, 34 Murwillumbah Street\, Murwillumbah\, NSW\, 2484\, Australia
CATEGORIES:Events
ATTACH;FMTTYPE=image/jpeg:https://yogaaustralia.org.au/wp-content/uploads/2024/05/ASANA-partner-workshop_JUN24-scaled.jpg
END:VEVENT
BEGIN:VEVENT
DTSTART;TZID=Australia/Melbourne:20240210T130000
DTEND;TZID=Australia/Melbourne:20240210T160000
DTSTAMP:20260425T010227
CREATED:20240124T093237Z
LAST-MODIFIED:20240124T093241Z
UID:10000785-1707570000-1707580800@yogaaustralia.org.au
SUMMARY:Workshop
DESCRIPTION:The first workshop for 2024 will will consist of supported Asana\, poses to gently churn and stimulate\, supported inversions to flush and reset…and give a new perspective\, restoration\, breath\, and readings. \nAll welcome\, come to rejuvenate and re connect and go into 2024 with balance.                                                                                          Investment $75.
URL:https://yogaaustralia.org.au/event-course/workshop/
LOCATION:34 Murwillumbah St\, Murwillumbah NSW 2484\, 34 Murwillumbah Street\, Murwillumbah\, NSW\, 2484\, Australia
CATEGORIES:Events
END:VEVENT
END:VCALENDAR