BEGIN:VCALENDAR
VERSION:2.0
PRODID:-//Yoga Australia - ECPv6.13.1//NONSGML v1.0//EN
CALSCALE:GREGORIAN
METHOD:PUBLISH
X-ORIGINAL-URL:https://yogaaustralia.org.au
X-WR-CALDESC:Events for Yoga Australia
REFRESH-INTERVAL;VALUE=DURATION:PT1H
X-Robots-Tag:noindex
X-PUBLISHED-TTL:PT1H
BEGIN:VTIMEZONE
TZID:Australia/Melbourne
BEGIN:STANDARD
TZOFFSETFROM:+1100
TZOFFSETTO:+1000
TZNAME:AEST
DTSTART:20250405T160000
END:STANDARD
BEGIN:DAYLIGHT
TZOFFSETFROM:+1000
TZOFFSETTO:+1100
TZNAME:AEDT
DTSTART:20251004T160000
END:DAYLIGHT
END:VTIMEZONE
BEGIN:VEVENT
DTSTART;TZID=Australia/Melbourne:20250830T080000
DTEND;TZID=Australia/Melbourne:20250905T170000
DTSTAMP:20260422T064838
CREATED:20240924T054039Z
LAST-MODIFIED:20240924T054048Z
UID:10001650-1756540800-1757091600@yogaaustralia.org.au
SUMMARY:7 Day "Serenity" Yoga & Meditation Retreat\, Italy
DESCRIPTION:Join Miriam on this Magical Yoga Retreat in Puglia\, Italy\nWhen: 30 August to 5 September 2025 \nPuglia\, a southern region forming the heel of Italy’s boot\, is known for its whitewashed hill towns\, centuries-old farmland with endless silver lined olive groves and hundreds of kilometers of Mediterranean coastline\, boasting rocky sun-soaked beaches. Still relatively untouched by tourism\, Puglia will seduce you with her Trulli – stone huts with distinctive conical roofs\, ancient towns and food to equal of anywhere in Italy. \nThe perfect place to relax and unwind. \nLocation: La Rosa dei Quattro Venti in beautiful Puglia \nLocated on a 14-acre estate in the heart of the Italian countryside\, this ancient 16th century masseria or farmhouse\, is now entirely dedicated to the practice of yoga and meditation and to the well-being of those who visit it. \nAmong the beautiful gardens are a Yoga Shala\, a pool\, an outdoor patio\, a 17th century church and a private forest. You will be comfortably accommodated in beautiful rooms and will enjoy healthy vegetarian dishes\, made with fresh ingredients and produced locally\, while honoring the reputation of Italian cuisine. \nA week gives us time to explore and deepen our yoga practice – whatever your experience. Time to rest and relax and time to explore this extraordinary area of Italy.
URL:https://yogaaustralia.org.au/event-course/7-day-serenity-yoga-meditation-retreat-italy/
LOCATION:La Rosa dei Quattro Venti\, Via Monti del Duca\, 302 - Zona H\, Martina Franca\, Puglia\, 4121\, Australia
CATEGORIES:Events
ATTACH;FMTTYPE=image/jpeg:https://yogaaustralia.org.au/wp-content/uploads/2024/09/IMG_2547-Medium.jpg
ORGANIZER;CN="Miriam Van doorn":MAILTO:miriamvandoorn@optusnet.com.au
END:VEVENT
END:VCALENDAR