BEGIN:VCALENDAR
VERSION:2.0
PRODID:-//Yoga Australia - ECPv6.13.1//NONSGML v1.0//EN
CALSCALE:GREGORIAN
METHOD:PUBLISH
X-ORIGINAL-URL:https://yogaaustralia.org.au
X-WR-CALDESC:Events for Yoga Australia
REFRESH-INTERVAL;VALUE=DURATION:PT1H
X-Robots-Tag:noindex
X-PUBLISHED-TTL:PT1H
BEGIN:VTIMEZONE
TZID:Australia/Melbourne
BEGIN:STANDARD
TZOFFSETFROM:+1100
TZOFFSETTO:+1000
TZNAME:AEST
DTSTART:20240406T160000
END:STANDARD
BEGIN:DAYLIGHT
TZOFFSETFROM:+1000
TZOFFSETTO:+1100
TZNAME:AEDT
DTSTART:20241005T160000
END:DAYLIGHT
END:VTIMEZONE
BEGIN:VEVENT
DTSTART;TZID=Australia/Melbourne:20240526T170000
DTEND;TZID=Australia/Melbourne:20240601T170000
DTSTAMP:20260424T043052
CREATED:20240108T095542Z
LAST-MODIFIED:20240108T095547Z
UID:10000744-1716742800-1717261200@yogaaustralia.org.au
SUMMARY:Ananda Wellness Retreat - Komune Eco Resort Bali
DESCRIPTION:We can’t wait to welcome you to the Island of the Gods for our blissful Ananda Wellness Retreat. \nAnanda Wellness Retreat is specifically designed to balance all the elements of deep health – physical\, mental\, emotional\, existential\, social and environmental. Our uniquely designed program ensures that all the elements are included -with movement\, nutrition and restoration our priority – to ensure you leave with a sense of peace\, wellbeing and balance that your mind\, body and soul will thank you for. \nSet on the lush and unspoilt East Coast of Bali\, our retreat will be hosted at the magnificent Hotel Komune Eco Resort and Beach Club\, a location set on the world famous Keramas surf break\, and blessed with idyllic views across to Lombok Island and Mt Agung Volcano. \nWe can’t wait to welcome you to Bali for your Ananda Wellness Retreat experience.
URL:https://yogaaustralia.org.au/event-course/ananda-wellness-retreat-komune-eco-resort-bali/
LOCATION:Komune Eco Resoirt Bali\, Pantai Keramas St Medahan\, Blahbatuh\, Gianyar Regency\, Bali\, 80361\, Australia
CATEGORIES:Events
ATTACH;FMTTYPE=image/png:https://yogaaustralia.org.au/wp-content/uploads/2024/01/Copy-of-Ananda-FB-Cover.png
ORGANIZER;CN="Shelley Wood":MAILTO:hello@anandagoods.com.au
GEO:-8.5977861;115.3343665
X-APPLE-STRUCTURED-LOCATION;VALUE=URI;X-ADDRESS=Komune Eco Resoirt Bali Pantai Keramas St Medahan Blahbatuh Gianyar Regency Bali 80361 Australia;X-APPLE-RADIUS=500;X-TITLE=Pantai Keramas St Medahan:geo:115.3343665,-8.5977861
END:VEVENT
END:VCALENDAR