BEGIN:VCALENDAR
VERSION:2.0
PRODID:-//Yoga Australia - ECPv6.13.1//NONSGML v1.0//EN
CALSCALE:GREGORIAN
METHOD:PUBLISH
X-WR-CALNAME:Yoga Australia
X-ORIGINAL-URL:https://yogaaustralia.org.au
X-WR-CALDESC:Events for Yoga Australia
REFRESH-INTERVAL;VALUE=DURATION:PT1H
X-Robots-Tag:noindex
X-PUBLISHED-TTL:PT1H
BEGIN:VTIMEZONE
TZID:Australia/Melbourne
BEGIN:STANDARD
TZOFFSETFROM:+1100
TZOFFSETTO:+1000
TZNAME:AEST
DTSTART:20260404T160000
END:STANDARD
BEGIN:DAYLIGHT
TZOFFSETFROM:+1000
TZOFFSETTO:+1100
TZNAME:AEDT
DTSTART:20261003T160000
END:DAYLIGHT
END:VTIMEZONE
BEGIN:VEVENT
DTSTART;TZID=Australia/Melbourne:20261004T170000
DTEND;TZID=Australia/Melbourne:20261010T090000
DTSTAMP:20260424T095554
CREATED:20251102T231220Z
LAST-MODIFIED:20251102T231224Z
UID:10002436-1791133200-1791622800@yogaaustralia.org.au
SUMMARY:Ananda Wellness Retreat 2026
DESCRIPTION:Ananda Wellness Retreat – Komune Resort\, Bali\n4-10 October 2026\nNow is the time to put yourself first and reset your nervous system. \nRegistration is now open for the Ananda Wellness Retreat in 2026. There are only 16 spots available. \nAnanda Wellness Retreat is specifically designed to balance all the elements of deep health – physical\, mental\, emotional\, existential\, social and environmental. Our uniquely designed program allows you to find deep rest\, reset your nervous system\, and meet every day with movement\, nutrition and restoration our priority. Our goal?…to ensure you leave with a sense of peace\, wellbeing and balance that your mind\, body and soul will thank you for. \nSet on the lush and unspoilt East Coast of Bali\, our retreat will be hosted at the magnificent Hotel Komune Eco Resort and Beach Club\, a location set on the world famous Keramas surf break\, and blessed with idyllic views across to Lombok Island and Mt Agung Volcano – the ‘Mother Mountain’.
URL:https://yogaaustralia.org.au/event-course/ananda-wellness-retreat-2026/
LOCATION:Komune Eco Resoirt Bali\, Pantai Keramas St Medahan\, Blahbatuh\, Gianyar Regency\, Bali\, 80361\, Australia
CATEGORIES:Events
ATTACH;FMTTYPE=image/jpeg:https://yogaaustralia.org.au/wp-content/uploads/2025/11/komune-sunrise.jpg
ORGANIZER;CN="Shelley Wood":MAILTO:hello@anandagoods.com.au
GEO:-8.5977861;115.3343665
X-APPLE-STRUCTURED-LOCATION;VALUE=URI;X-ADDRESS=Komune Eco Resoirt Bali Pantai Keramas St Medahan Blahbatuh Gianyar Regency Bali 80361 Australia;X-APPLE-RADIUS=500;X-TITLE=Pantai Keramas St Medahan:geo:115.3343665,-8.5977861
END:VEVENT
END:VCALENDAR