BEGIN:VCALENDAR
VERSION:2.0
PRODID:-//Yoga Australia - ECPv6.13.1//NONSGML v1.0//EN
CALSCALE:GREGORIAN
METHOD:PUBLISH
X-ORIGINAL-URL:https://yogaaustralia.org.au
X-WR-CALDESC:Events for Yoga Australia
REFRESH-INTERVAL;VALUE=DURATION:PT1H
X-Robots-Tag:noindex
X-PUBLISHED-TTL:PT1H
BEGIN:VTIMEZONE
TZID:Australia/Melbourne
BEGIN:STANDARD
TZOFFSETFROM:+1100
TZOFFSETTO:+1000
TZNAME:AEST
DTSTART:20250405T160000
END:STANDARD
BEGIN:DAYLIGHT
TZOFFSETFROM:+1000
TZOFFSETTO:+1100
TZNAME:AEDT
DTSTART:20251004T160000
END:DAYLIGHT
END:VTIMEZONE
BEGIN:VEVENT
DTSTART;TZID=Australia/Melbourne:20250118T140000
DTEND;TZID=Australia/Melbourne:20250118T170000
DTSTAMP:20260423T132021
CREATED:20241206T020834Z
LAST-MODIFIED:20241206T020838Z
UID:10001974-1737208800-1737219600@yogaaustralia.org.au
SUMMARY:ASANA PRANAYAMA & MANTRA YOGA WORKSHOP
DESCRIPTION:Asana\, Pranayama\, and Mantra are fundamental practices in yoga that contribute to physical\, mental\, and spiritual well-being and a balanced Yoga practice. \nAsanas: This refers to the physical postures in yoga. Asanas help improve flexibility\, strength\, and balance while promoting relaxation and body awareness. \nPranayama: This is the practice of breath control. Pranayama techniques involve various breathing exercises that help regulate energy flow in the body\, enhance lung capacity\, and reduce stress. \nMantra: A mantra is a sound\, word\, or phrase repeated to aid meditation and focus the mind. Mantras can invoke specific energies or intentions and are often used to enhance spiritual practice and concentration. \nA rich\, practical & diverse Yoga workshop that will delve into these Yoga practices and how they contribute physical\, energetic and spiritual well-being. \nThis workshop will bring together all these practices of Yoga into a wholistic afternoon of Yoga. \nCome and be a part of this unique\, one-off class with Jacqui & Shimon\, and deepen your practice by embracing a more holistic\, transformative approach.
URL:https://yogaaustralia.org.au/event-course/asana-pranayama-mantra-yoga-workshop/
CATEGORIES:Events
ATTACH;FMTTYPE=image/jpeg:https://yogaaustralia.org.au/wp-content/uploads/2024/11/120A7441-1080.jpg
ORGANIZER;CN="Stretch your Life":MAILTO:info@stretchyourlife.com.au
END:VEVENT
END:VCALENDAR