BEGIN:VCALENDAR
VERSION:2.0
PRODID:-//Yoga Australia - ECPv6.13.1//NONSGML v1.0//EN
CALSCALE:GREGORIAN
METHOD:PUBLISH
X-ORIGINAL-URL:https://yogaaustralia.org.au
X-WR-CALDESC:Events for Yoga Australia
REFRESH-INTERVAL;VALUE=DURATION:PT1H
X-Robots-Tag:noindex
X-PUBLISHED-TTL:PT1H
BEGIN:VTIMEZONE
TZID:Australia/Melbourne
BEGIN:STANDARD
TZOFFSETFROM:+1100
TZOFFSETTO:+1000
TZNAME:AEST
DTSTART:20230401T160000
END:STANDARD
BEGIN:DAYLIGHT
TZOFFSETFROM:+1000
TZOFFSETTO:+1100
TZNAME:AEDT
DTSTART:20230930T160000
END:DAYLIGHT
END:VTIMEZONE
BEGIN:VEVENT
DTSTART;TZID=Australia/Melbourne:20230618T110000
DTEND;TZID=Australia/Melbourne:20230618T150000
DTSTAMP:20260425T022851
CREATED:20230522T115045Z
LAST-MODIFIED:20230529T005648Z
UID:10000315-1687086000-1687100400@yogaaustralia.org.au
SUMMARY:Yoga Day Celebration 2023
DESCRIPTION:A fun and exciting yoga festival for everyone! Join us as we celebrate the United Nations International Day of Yoga with a super fun day all about yoga! Come to the Civic Centre at Coolum Beach and enjoy: Uplifting yoga and meditation classes with awesome local teachers on our main stage.\n\nYoga dance – a chance to move and groove yogi style!\n\nA cool Yoga Life Lab where you can learn about the yoga way of life\, try wellness workshops\, breathe like a yogi\, experience sound healing\, sing in a relaxed kirtan\, or just hang out and chill.\n\nA special Playful Kids area where kids can have fun with face painting\, yoga games\, dance\, and activities.\n\nYummy vegan food stand to fill you up and keep your tummy happy.Celebrate the joy of yoga and how it helps us find peace and happiness in our busy lives and learn more about ourselves. No matter if you’re new to yoga or have been doing it for a while\, you’ll have a great time at Yoga Day Celebration! Celebrate the United Nations International Yoga Day with a fun-filled event for the whole family! $5 entry Hosted by Sunshine Coast Meditation & Yoga and Griffith Yoga Lifestyle Club Featuring awesome kirtan artists from around South East Queensland. Tickets here: https://yogaday23.eventbrite.com.au/
URL:https://yogaaustralia.org.au/event-course/yoga-day-celebration-2023/
CATEGORIES:Events
ATTACH;FMTTYPE=image/png:https://yogaaustralia.org.au/wp-content/uploads/2023/05/YogaDayCelebrationFlyer.png
ORGANIZER;CN="Yasmin Hassan":MAILTO:sunshinecoastmeditation@gmail.com
END:VEVENT
END:VCALENDAR