BEGIN:VCALENDAR
VERSION:2.0
PRODID:-//Yoga Australia - ECPv6.13.1//NONSGML v1.0//EN
CALSCALE:GREGORIAN
METHOD:PUBLISH
X-WR-CALNAME:Yoga Australia
X-ORIGINAL-URL:https://yogaaustralia.org.au
X-WR-CALDESC:Events for Yoga Australia
REFRESH-INTERVAL;VALUE=DURATION:PT1H
X-Robots-Tag:noindex
X-PUBLISHED-TTL:PT1H
BEGIN:VTIMEZONE
TZID:Australia/Melbourne
BEGIN:STANDARD
TZOFFSETFROM:+1100
TZOFFSETTO:+1000
TZNAME:AEST
DTSTART:20250405T160000
END:STANDARD
BEGIN:DAYLIGHT
TZOFFSETFROM:+1000
TZOFFSETTO:+1100
TZNAME:AEDT
DTSTART:20251004T160000
END:DAYLIGHT
BEGIN:STANDARD
TZOFFSETFROM:+1100
TZOFFSETTO:+1000
TZNAME:AEST
DTSTART:20260404T160000
END:STANDARD
BEGIN:DAYLIGHT
TZOFFSETFROM:+1000
TZOFFSETTO:+1100
TZNAME:AEDT
DTSTART:20261003T160000
END:DAYLIGHT
END:VTIMEZONE
BEGIN:VEVENT
DTSTART;TZID=Australia/Melbourne:20260309T080000
DTEND;TZID=Australia/Melbourne:20260309T153000
DTSTAMP:20260420T134634
CREATED:20260227T002727Z
LAST-MODIFIED:20260227T002731Z
UID:10002697-1773043200-1773070200@yogaaustralia.org.au
SUMMARY:Yoga for Inner Enrichment
DESCRIPTION:Asana\, Pranayama\, Kriya\, Meditation\, Yoganidra\, Satvic food\, beach walk
URL:https://yogaaustralia.org.au/event-course/yoga-for-inner-enrichment/
LOCATION:1/80\, Mills Road\, Braeside\, Vic 3195\, 1/80 Mills Road\, Braeside\, Vic\, 3195\, Australia
CATEGORIES:Events
ATTACH;FMTTYPE=image/jpeg:https://yogaaustralia.org.au/wp-content/uploads/2026/02/89d3a3bc-5d87-4545-9318-05242fb5bf33.jpg
ORGANIZER;CN="Vasudeva Kriya Yoga":MAILTO:vasudevakriyayoga@gmail.com
END:VEVENT
BEGIN:VEVENT
DTSTART;TZID=Australia/Melbourne:20251123T133000
DTEND;TZID=Australia/Melbourne:20251123T193000
DTSTAMP:20260420T134634
CREATED:20251120T001455Z
LAST-MODIFIED:20251120T001458Z
UID:10002454-1763904600-1763926200@yogaaustralia.org.au
SUMMARY:3rd Australian Yoga Competition
DESCRIPTION:3rd Australian Yoga and Bhagavad Geeta competition will be held in VKY Mandir\, Braeside on 23 November 2025 followed by the official opening our our new centre dedicated to promoting mental wellness through yoga.
URL:https://yogaaustralia.org.au/event-course/3rd-australian-yoga-competition/
LOCATION:1/80\, Mills Road\, Braeside\, Vic 3195\, 1/80 Mills Road\, Braeside\, Vic\, 3195\, Australia
CATEGORIES:Events
ATTACH;FMTTYPE=image/jpeg:https://yogaaustralia.org.au/wp-content/uploads/2025/11/with-sponsors-9fe61cf2-24ab-4c88-b392-d11f43cf92d7.jpg
ORGANIZER;CN="Vasudeva Kriya Yoga":MAILTO:vasudevakriyayoga@gmail.com
END:VEVENT
END:VCALENDAR