BEGIN:VCALENDAR
VERSION:2.0
PRODID:-//Yoga Australia - ECPv6.13.1//NONSGML v1.0//EN
CALSCALE:GREGORIAN
METHOD:PUBLISH
X-WR-CALNAME:Yoga Australia
X-ORIGINAL-URL:https://yogaaustralia.org.au
X-WR-CALDESC:Events for Yoga Australia
REFRESH-INTERVAL;VALUE=DURATION:PT1H
X-Robots-Tag:noindex
X-PUBLISHED-TTL:PT1H
BEGIN:VTIMEZONE
TZID:Australia/Melbourne
BEGIN:STANDARD
TZOFFSETFROM:+1100
TZOFFSETTO:+1000
TZNAME:AEST
DTSTART:20230401T160000
END:STANDARD
BEGIN:DAYLIGHT
TZOFFSETFROM:+1000
TZOFFSETTO:+1100
TZNAME:AEDT
DTSTART:20230930T160000
END:DAYLIGHT
END:VTIMEZONE
BEGIN:VEVENT
DTSTART;TZID=Australia/Melbourne:20230201T080000
DTEND;TZID=Australia/Melbourne:20231221T170000
DTSTAMP:20260423T103053
CREATED:20230523T133625Z
LAST-MODIFIED:20231101T115501Z
UID:10000361-1675238400-1703178000@yogaaustralia.org.au
SUMMARY:Diploma of Ayurvedic Lifestyle Consultation
DESCRIPTION:Aligning Health and Sree Chithra Ayurhome present a course rich in traditional knowledge and skilled in Western application. Study options are flexible to meet the needs of our students. Graduate with confidence to begin your Practice of Ayurveda Diploma of  Ayurvedic Lifestyle Consultation is offered through blended learning. Students are provided with online learning materials including course manuals\, live classrooms and practical training. Practical Training is held at Aligning Health Retreat. Students attend training to learn how to apply theory to practice on members of the public under the supervision of qualified staff Students participate in self-paced material and complete ongoing quizzes. Students participate in Class Demonstrations and inhouse practical training. 15 months of supported study is held through live zoom classes and recorded for revision Students are welcome to attend additional practicals at additional costs if they require further support. There are no exams in this course.
URL:https://yogaaustralia.org.au/event-course/diploma-of-ayurvedic-lifestyle-consultation/
LOCATION:Aligning Health Retreat & Day Spa\, 4 Lynch Lane\, Axedale\, VIC\, 3551\, Australia
CATEGORIES:Events,Online
ORGANIZER;CN="Sarah Vanis":MAILTO:info@aligninghealth.com.au
GEO:-36.7919735;144.4723426
X-APPLE-STRUCTURED-LOCATION;VALUE=URI;X-ADDRESS=Aligning Health Retreat & Day Spa 4 Lynch Lane Axedale VIC 3551 Australia;X-APPLE-RADIUS=500;X-TITLE=4 Lynch Lane:geo:144.4723426,-36.7919735
END:VEVENT
BEGIN:VEVENT
DTSTART;TZID=Australia/Melbourne:20230201T080000
DTEND;TZID=Australia/Melbourne:20231221T170000
DTSTAMP:20260423T103053
CREATED:20230523T133358Z
LAST-MODIFIED:20231101T115500Z
UID:10000360-1675238400-1703178000@yogaaustralia.org.au
SUMMARY:Advanced Diploma of Ayurveda
DESCRIPTION:Aligning Health and Sree Chithra Ayurhome present a course rich in traditional knowledge and skilled in Western application. Study options are flexible to meet the needs of our students. Graduate with confidence to begin your Practice of Ayurveda Advanced Diploma of Ayurveda is offered through blended learning. Students are provided with online learning materials including course manuals\, live classrooms and practical training. Practical Training is held at Aligning Health Retreat. Students attend training to learn how to apply theory to practice on members of the public under the supervision of qualified staff Students participate in self-paced material and complete ongoing quizzes. Students participate in Class Demonstrations and inhouse practical training. 15 months of supported study is held through live zoom classes and recorded for revision Students are welcome to attend additional practicals at additional costs if they require further support. There are no exams in this course.
URL:https://yogaaustralia.org.au/event-course/advanced-diploma-of-ayurveda/
LOCATION:Aligning Health Retreat & Day Spa\, 4 Lynch Lane\, Axedale\, VIC\, 3551\, Australia
CATEGORIES:Events,Online
ORGANIZER;CN="Sarah Vanis":MAILTO:info@aligninghealth.com.au
GEO:-36.7919735;144.4723426
X-APPLE-STRUCTURED-LOCATION;VALUE=URI;X-ADDRESS=Aligning Health Retreat & Day Spa 4 Lynch Lane Axedale VIC 3551 Australia;X-APPLE-RADIUS=500;X-TITLE=4 Lynch Lane:geo:144.4723426,-36.7919735
END:VEVENT
END:VCALENDAR