BEGIN:VCALENDAR
VERSION:2.0
PRODID:-//Yoga Australia - ECPv6.13.1//NONSGML v1.0//EN
CALSCALE:GREGORIAN
METHOD:PUBLISH
X-ORIGINAL-URL:https://yogaaustralia.org.au
X-WR-CALDESC:Events for Yoga Australia
REFRESH-INTERVAL;VALUE=DURATION:PT1H
X-Robots-Tag:noindex
X-PUBLISHED-TTL:PT1H
BEGIN:VTIMEZONE
TZID:Australia/Melbourne
BEGIN:STANDARD
TZOFFSETFROM:+1100
TZOFFSETTO:+1000
TZNAME:AEST
DTSTART:20250405T160000
END:STANDARD
BEGIN:DAYLIGHT
TZOFFSETFROM:+1000
TZOFFSETTO:+1100
TZNAME:AEDT
DTSTART:20251004T160000
END:DAYLIGHT
END:VTIMEZONE
BEGIN:VEVENT
DTSTART;TZID=Australia/Melbourne:20251004T103000
DTEND;TZID=Australia/Melbourne:20251004T120000
DTSTAMP:20260425T092851
CREATED:20250825T011654Z
LAST-MODIFIED:20250825T011738Z
UID:10002373-1759573800-1759579200@yogaaustralia.org.au
SUMMARY:The Healing Voice & Rest with the Harp
DESCRIPTION:Join singer\, harp therapist and yoga teacher Vasudha Harte in a healing sound journey. \nWe create our own “sonic tonic” and enjoy exploring the power of our unique voice using the syllables Sa Re Ga Ma Pa Da Ni Sa. \nNada (sound) yogis have used these sounds through the ages to vocalise the notes of a raga. \nWe will then chant simple yet powerful mantras and healing medicine songs to open our hearts and uplift our spirits (a mini kirtan!) \nMeditative chanting can have a calming\, reparative affect\, helping to focus the mind\, expand the breath and create restorative resonance in the body. \nOur journey of the therapeutic power of sound concludes with “Rest with the Harp\,” a unique opportunity to allow the magical tones of live harp music to help soothe and balance the nervous system and enable the body to deeply rest. \nBring all the props you need in order to be comfortable and warm. \n“If you have been to one of Vasudha’s yoga classes you will already know the powerful healing in her voice and the beautiful way she creates peace within the space as well as your body and mind.”  Amy Mindful AF Emerald \n\n\n  \nMulti instrumentalist and vocalist Vasudha Harte is a harp therapist\, music therapist\, music teacher\, sound healing facilitator and yoga teacher who has explored the healing power of yoga\, music\, sound and silence for over 30 years. Her extensive yoga teacher training includes Nada Yoga School Rishikesh\, YogaSynergy Australia and Judith Hansen Lasater. \nShe has shared her expertise in Sound Healing and Restful yoga for many years in various beautiful locations\, including world renowned Gaia Retreat and Spa Byron Bay and currently at Rest and Restore Retreat Yarra Valley. @musicandyogainspiration www.vasudhaharte.com ph 0451944051 vasudha.harte@gmail.com
URL:https://yogaaustralia.org.au/event-course/the-healing-voice-rest-with-the-harp/
LOCATION:Bendigo Yoga Festival 2025\, All Seasons Resort\, Bendigo\, VIC\, Australia
CATEGORIES:Events
ATTACH;FMTTYPE=image/jpeg:https://yogaaustralia.org.au/wp-content/uploads/2025/08/V-harp-willow-branch-copy.jpeg
ORGANIZER;CN="Vasudha Harte":MAILTO:vasudha.harte@gmail.com
END:VEVENT
END:VCALENDAR