BEGIN:VCALENDAR
VERSION:2.0
PRODID:-//Yoga Australia - ECPv6.13.1//NONSGML v1.0//EN
CALSCALE:GREGORIAN
METHOD:PUBLISH
X-WR-CALNAME:Yoga Australia
X-ORIGINAL-URL:https://yogaaustralia.org.au
X-WR-CALDESC:Events for Yoga Australia
REFRESH-INTERVAL;VALUE=DURATION:PT1H
X-Robots-Tag:noindex
X-PUBLISHED-TTL:PT1H
BEGIN:VTIMEZONE
TZID:Australia/Melbourne
BEGIN:STANDARD
TZOFFSETFROM:+1100
TZOFFSETTO:+1000
TZNAME:AEST
DTSTART:20240406T160000
END:STANDARD
BEGIN:DAYLIGHT
TZOFFSETFROM:+1000
TZOFFSETTO:+1100
TZNAME:AEDT
DTSTART:20241005T160000
END:DAYLIGHT
BEGIN:STANDARD
TZOFFSETFROM:+1100
TZOFFSETTO:+1000
TZNAME:AEST
DTSTART:20250405T160000
END:STANDARD
BEGIN:DAYLIGHT
TZOFFSETFROM:+1000
TZOFFSETTO:+1100
TZNAME:AEDT
DTSTART:20251004T160000
END:DAYLIGHT
END:VTIMEZONE
BEGIN:VEVENT
DTSTART;TZID=Australia/Melbourne:20250921T180000
DTEND;TZID=Australia/Melbourne:20250921T193000
DTSTAMP:20260424T184555
CREATED:20250825T234118Z
LAST-MODIFIED:20250825T234123Z
UID:10002376-1758477600-1758483000@yogaaustralia.org.au
SUMMARY:Spring Equinox Ceremony
DESCRIPTION:The eclipse portal has opened with the new moon in Virgo\, & this year\, the Spring Equinox hovers in the balance of this liminal space ❍\n\nWith two consecutive new moons in Virgo (rare & signifying major new beginnings)\, & one a solar eclipse\, you’re in for a purification at unprecedented depths.\n\nThis Spring Equinox brings rebirth & renewal to astronomical heights & it’s up to you who you want to become.\n\nWith the north node of the moon (Dragon’s head) in Pisces & the south node (Dragon’s tail) in Virgo\, the collective is learning to bring magic to day-to-day existence with deep spiritual connection. Releasing old paradigms of ‘doing’ & moving toward a new ‘being’\n\nThe Eclipse Dragon of Destiny has it’s eyes fixed on you already. Expect to be drawn in to Its vortex\, conscious or not\n\n🐉\n\nWill you befriend the Dragon\, cower\, or resist the upgrade? Your destined outcome depends on your conscious awareness.\n\nThat’s why i’m inviting you to join us in ceremony to honour your unique dance with the Eclipse Dragon\, the One with which you co-create your destiny 💫\n\nAs we stand\, heart-pounding\, at the portal’s entry\, your conscious awareness is the lantern lighting the path to this process of evolution.\n\nLike all sacred ceremony at Mandala Nights\, you’ll bear witness to the energetic shifts within you as well as those joining you around the fire.\n\nYou’ll be gently guided through ancient practices to support your realignment with the natural forces of the cosmos through…\n\ncacao ceremony ❍ intuitive guided dance ❍ mantra ❍ myth ❍ prānāyāma ❍ meditation ❍ ritual\n\nYou’ll then be served a nourishing sattvic dinner to enjoy with soul-led community.\n\n🐉 when: Sunday 21 September 6-7.30pm for sunset\n\n🐉 where: Dunghutti Country\, Crescent Head\n\n🐉 cost: $79 incl dinner\n\nIn the spirit of the intimate nature of Mandala Nights events\, numbers are always kept low\, so if this journey speaks to you\, please book well in advance to avoid disappointment. Some places are already gone to the waitlist.
URL:https://yogaaustralia.org.au/event-course/spring-equinox-ceremony/
LOCATION:Crescent Head\, NSW
CATEGORIES:Events
ATTACH;FMTTYPE=image/png:https://yogaaustralia.org.au/wp-content/uploads/2025/08/Spring-equinox-25-email-campaign.png
ORGANIZER;CN="Jessica Ranjit":MAILTO:jessica.ranjit@gmail.com
END:VEVENT
BEGIN:VEVENT
DTSTART;TZID=Australia/Melbourne:20250621T170000
DTEND;TZID=Australia/Melbourne:20250621T190000
DTSTAMP:20260424T184555
CREATED:20250509T001513Z
LAST-MODIFIED:20250509T001525Z
UID:10002297-1750525200-1750532400@yogaaustralia.org.au
SUMMARY:Winter Solstice Ceremony
DESCRIPTION:We’re diving deep into the Solstice void already my love. do you feel it stirring within you too? The darkness envelops us\, creeping closer day by day\, inviting us to pause\, recognise & prepare to honour the gifts of our own darkest night. \n☬ for only then can we know & love all parts of self \n☬ only then can we ascend into our authentic light \nThis is the sacred & transformational power of SHAKTI⚡️ She is all of creation\, She the Divine immanent\, She is the here & now. \nAs one of my fave psychologists of all time\, Carl Jung\, so eloquently stated ‘until you make the unconscious conscious\, it will direct your life & you will call it fate’. \nI remember my mum introducing me to his work at a young age & perhaps that’s what inspired me to study psychology. I can’t say for sure\, but I do know that my bestie @thea_phania & I would devour his work & discuss it well into the night when we were fresh teenagers. \n@thea_phania has since studied & worked with the dark goddesses\, & she’s taught me so much about the beauty of the mud from which the lotus grows. \nI’ve wanted to share her energy with you all for some time now & she’s finally agreed to sit in circle with us\, this time\, not only as a participant of our unique mandala\, but as an enormously knowledgeable & intuitive contributor. \n✨we are blessed ✨ \nMama Cacao will expand our hearts inward\, & through the ancient medicine of myth\, movement\, mantra\, meditation\, breath & ritual\, we’ll travel together dancing with\, & loving\, our ‘darkest’ self to the extent we finally glimpse the light on the other side. \n〰️ just as the solstice teaches 〰️ \n☬ when: saturday 21 june\, 5-7pm \n☬ where: Dunghutti Country\, Crescent Head \n☬ how much: ceremony & dinner $79 \nI’ve facilitated many solstice ceremonies. I’m not sure i’ve ever been as excited as i am for this one. \nSolstice magic is arriving my love & places around the fire are limited. join us for an evening like no other.
URL:https://yogaaustralia.org.au/event-course/winter-solstice-ceremony-2/
LOCATION:Crescent Head\, NSW
CATEGORIES:Events
ATTACH;FMTTYPE=image/png:https://yogaaustralia.org.au/wp-content/uploads/2025/05/Winter-Solstice-2025-image-for-scheduling.png
ORGANIZER;CN="Jessica Ranjit":MAILTO:jessica.ranjit@gmail.com
END:VEVENT
BEGIN:VEVENT
DTSTART;TZID=Australia/Melbourne:20241221T183000
DTEND;TZID=Australia/Melbourne:20241221T200000
DTSTAMP:20260424T184555
CREATED:20241029T101257Z
LAST-MODIFIED:20241029T101308Z
UID:10001673-1734805800-1734811200@yogaaustralia.org.au
SUMMARY:Summer Solstice Ceremony: Reclaim The Light
DESCRIPTION:Join us in the sacred shālā for this annual event. We’re spiralling our way up into Solstice light already my loves & we can’t wait to celebrate with you! It’s a moment to pause & witness your innate truth – your unique light. \nYou’ll be guided through ancient yogic practices to reconnect with the rhythms of the earth & remember your true nature. Together\, we’ll breath consciously\, meditate\, dance intuitively\, sip cacao\, experience the potency of uniting our voices as one\, & nourish our hearts & bellies with delicious food. \nWe’d love to have you in circle. Join us!
URL:https://yogaaustralia.org.au/event-course/summer-solstice-ceremony-reclaim-the-light-2/
LOCATION:Crescent Head\, NSW
CATEGORIES:Events
ATTACH;FMTTYPE=image/png:https://yogaaustralia.org.au/wp-content/uploads/2024/10/Summer-Solstice-2024-flyer-1.png
ORGANIZER;CN="Jessica Ranjit":MAILTO:jessica.ranjit@gmail.com
END:VEVENT
BEGIN:VEVENT
DTSTART;TZID=Australia/Melbourne:20241221T183000
DTEND;TZID=Australia/Melbourne:20241221T200000
DTSTAMP:20260424T184555
CREATED:20241029T094120Z
LAST-MODIFIED:20241029T094130Z
UID:10001672-1734805800-1734811200@yogaaustralia.org.au
SUMMARY:Summer Solstice Ceremony: Reclaim The Light
DESCRIPTION:Join us in the sacred shālā for this annual event. We’re spiralling our way up into Solstice light already my loves & we can’t wait to celebrate with you! It’s a moment to pause & witness your innate truth – your unique light. \nYou’ll be guided through ancient yogic practices to reconnect with the rhythms of the earth & remember your true nature. Together\, we’ll breath consciously\, meditate\, dance intuitively\, sip cacao\, experience the potency of uniting our voices as one\, & nourish our hearts & bellies with delicious food. \nWe’d love to have you in circle. Join us!
URL:https://yogaaustralia.org.au/event-course/summer-solstice-ceremony-reclaim-the-light/
LOCATION:Crescent Head\, NSW
CATEGORIES:Events
ATTACH;FMTTYPE=image/png:https://yogaaustralia.org.au/wp-content/uploads/2024/10/Summer-Solstice-2024-flyer.png
ORGANIZER;CN="Jessica Ranjit":MAILTO:jessica.ranjit@gmail.com
END:VEVENT
BEGIN:VEVENT
DTSTART;TZID=Australia/Melbourne:20241110T090000
DTEND;TZID=Australia/Melbourne:20241110T153000
DTSTAMP:20260424T184555
CREATED:20240802T022604Z
LAST-MODIFIED:20240802T022620Z
UID:10001576-1731229200-1731252600@yogaaustralia.org.au
SUMMARY:Prānāyāma & Meditation Retreat
DESCRIPTION:Re-align the breath\, mind & spirit through ancient yogic breath work\, meditation & some pretty amazing sattvic food. Whether you’re a beginner or a seasoned practitioner\, this retreat will be transformational if you….. \n\n\nwant to improve your sleep\, focus\, emotional resilience\, relationships & overall health \n\n\nare ready to prioritise\, & accelerate\, your spiritual development \n\n\nare struggling to meditate & want support from a teacher with over 20 years experience \n\n\nstand ready to purify yourself of conditioning \n\n\nneed a circuit-breaker from life to re-wire your entire being \n\n\nIF YOU’RE READY FOR NOURISHING HUMAN CONNECTION\, MORE RESTFUL SLEEP\, A HAPPIER DIGESTIVE SYSTEM\, A CALMER\, CLEARER\, FOCUSED & INSPIRED MIND\, EXPANSIVE VITALITY & A DEEPER CONNECTION TO SPIRIT….\nStep off the hamster wheel for a day & let us nourish you!
URL:https://yogaaustralia.org.au/event-course/pranayama-meditation-retreat/
LOCATION:Crescent Head\, NSW
CATEGORIES:Events
ATTACH;FMTTYPE=image/png:https://yogaaustralia.org.au/wp-content/uploads/2024/07/Pranayama-meditation-retreat-Nov-24-poster.png
ORGANIZER;CN="Jessica Ranjit":MAILTO:jessica.ranjit@gmail.com
END:VEVENT
END:VCALENDAR