BEGIN:VCALENDAR
VERSION:2.0
PRODID:-//Yoga Australia - ECPv6.13.1//NONSGML v1.0//EN
CALSCALE:GREGORIAN
METHOD:PUBLISH
X-WR-CALNAME:Yoga Australia
X-ORIGINAL-URL:https://yogaaustralia.org.au
X-WR-CALDESC:Events for Yoga Australia
REFRESH-INTERVAL;VALUE=DURATION:PT1H
X-Robots-Tag:noindex
X-PUBLISHED-TTL:PT1H
BEGIN:VTIMEZONE
TZID:Australia/Adelaide
BEGIN:STANDARD
TZOFFSETFROM:+1030
TZOFFSETTO:+0930
TZNAME:ACST
DTSTART:20250405T163000
END:STANDARD
BEGIN:DAYLIGHT
TZOFFSETFROM:+0930
TZOFFSETTO:+1030
TZNAME:ACDT
DTSTART:20251004T163000
END:DAYLIGHT
END:VTIMEZONE
BEGIN:VEVENT
DTSTART;TZID=Australia/Adelaide:20250528T100000
DTEND;TZID=Australia/Adelaide:20250528T113000
DTSTAMP:20260425T022740
CREATED:20250505T043424Z
LAST-MODIFIED:20250505T043446Z
UID:10002250-1748426400-1748431800@yogaaustralia.org.au
SUMMARY:Family Yoga Playgroup
DESCRIPTION:Yoga Playgroup for Parents and Little Movers\nWho is this for?\nThis yoga playgroup is designed for mums\, dads\, and other caregivers with babies who are crawling\, toddling\, or walking — perfect for those who have become too wriggly for traditional mums & bubs yoga classes! 😊 It is also a fun and inclusive space for toddlers and preschool-aged children to move\, play\, and explore. ✨ \nWhat to expect? \nWe’ll begin with a slow and gentle start as we settle into the space\, followed by: \n\nWelcome songs to help everyone feel at ease. 🎶\nYogasana-based movement (postures) and pranayama (breathing exercises) for grown-ups to stretch\, move\, and possibly even relax a little. 😄\nOpportunities for children to join in the movement if they feel like it\, making it an interactive experience for all. 🧘‍♀️👶\nA little sprinkle of yoga philosophy to support your parenting journey. 📿📜\nA story to nourish the imagination and bring a calm end to our session. 📚✨\nA goodbye song to close the session\, followed by herbal tea for a soothing finish and the chance to connect with other parents and caregivers. 🫖\n\nThis is a wonderful opportunity for parents to nourish themselves while sharing meaningful moments with their little ones. You’ll leave feeling refreshed\, energised and connected! 🌿💧✨ \nCome as you are – no previous yoga experience required 💖💙💚💛💜🧡
URL:https://yogaaustralia.org.au/event-course/family-yoga-playgroup/2025-05-28/
LOCATION:Maslin Beach Community Hall\, Parkway Drive\, Maslin Beach\, SA\, 5170\, Australia
CATEGORIES:Events
ATTACH;FMTTYPE=image/png:https://yogaaustralia.org.au/wp-content/uploads/2025/05/Yoga-playgroup-from-30-April-FB.png
ORGANIZER;CN="Flow and Grow Family Yoga":MAILTO:hello@antjeguenther.com
END:VEVENT
BEGIN:VEVENT
DTSTART;TZID=Australia/Adelaide:20250521T100000
DTEND;TZID=Australia/Adelaide:20250521T113000
DTSTAMP:20260425T022740
CREATED:20250505T043424Z
LAST-MODIFIED:20250505T043446Z
UID:10002249-1747821600-1747827000@yogaaustralia.org.au
SUMMARY:Family Yoga Playgroup
DESCRIPTION:Yoga Playgroup for Parents and Little Movers\nWho is this for?\nThis yoga playgroup is designed for mums\, dads\, and other caregivers with babies who are crawling\, toddling\, or walking — perfect for those who have become too wriggly for traditional mums & bubs yoga classes! 😊 It is also a fun and inclusive space for toddlers and preschool-aged children to move\, play\, and explore. ✨ \nWhat to expect? \nWe’ll begin with a slow and gentle start as we settle into the space\, followed by: \n\nWelcome songs to help everyone feel at ease. 🎶\nYogasana-based movement (postures) and pranayama (breathing exercises) for grown-ups to stretch\, move\, and possibly even relax a little. 😄\nOpportunities for children to join in the movement if they feel like it\, making it an interactive experience for all. 🧘‍♀️👶\nA little sprinkle of yoga philosophy to support your parenting journey. 📿📜\nA story to nourish the imagination and bring a calm end to our session. 📚✨\nA goodbye song to close the session\, followed by herbal tea for a soothing finish and the chance to connect with other parents and caregivers. 🫖\n\nThis is a wonderful opportunity for parents to nourish themselves while sharing meaningful moments with their little ones. You’ll leave feeling refreshed\, energised and connected! 🌿💧✨ \nCome as you are – no previous yoga experience required 💖💙💚💛💜🧡
URL:https://yogaaustralia.org.au/event-course/family-yoga-playgroup/2025-05-21/
LOCATION:Maslin Beach Community Hall\, Parkway Drive\, Maslin Beach\, SA\, 5170\, Australia
CATEGORIES:Events
ATTACH;FMTTYPE=image/png:https://yogaaustralia.org.au/wp-content/uploads/2025/05/Yoga-playgroup-from-30-April-FB.png
ORGANIZER;CN="Flow and Grow Family Yoga":MAILTO:hello@antjeguenther.com
END:VEVENT
BEGIN:VEVENT
DTSTART;TZID=Australia/Adelaide:20250514T100000
DTEND;TZID=Australia/Adelaide:20250514T113000
DTSTAMP:20260425T022740
CREATED:20250505T043424Z
LAST-MODIFIED:20250505T043446Z
UID:10002248-1747216800-1747222200@yogaaustralia.org.au
SUMMARY:Family Yoga Playgroup
DESCRIPTION:Yoga Playgroup for Parents and Little Movers\nWho is this for?\nThis yoga playgroup is designed for mums\, dads\, and other caregivers with babies who are crawling\, toddling\, or walking — perfect for those who have become too wriggly for traditional mums & bubs yoga classes! 😊 It is also a fun and inclusive space for toddlers and preschool-aged children to move\, play\, and explore. ✨ \nWhat to expect? \nWe’ll begin with a slow and gentle start as we settle into the space\, followed by: \n\nWelcome songs to help everyone feel at ease. 🎶\nYogasana-based movement (postures) and pranayama (breathing exercises) for grown-ups to stretch\, move\, and possibly even relax a little. 😄\nOpportunities for children to join in the movement if they feel like it\, making it an interactive experience for all. 🧘‍♀️👶\nA little sprinkle of yoga philosophy to support your parenting journey. 📿📜\nA story to nourish the imagination and bring a calm end to our session. 📚✨\nA goodbye song to close the session\, followed by herbal tea for a soothing finish and the chance to connect with other parents and caregivers. 🫖\n\nThis is a wonderful opportunity for parents to nourish themselves while sharing meaningful moments with their little ones. You’ll leave feeling refreshed\, energised and connected! 🌿💧✨ \nCome as you are – no previous yoga experience required 💖💙💚💛💜🧡
URL:https://yogaaustralia.org.au/event-course/family-yoga-playgroup/2025-05-14/
LOCATION:Maslin Beach Community Hall\, Parkway Drive\, Maslin Beach\, SA\, 5170\, Australia
CATEGORIES:Events
ATTACH;FMTTYPE=image/png:https://yogaaustralia.org.au/wp-content/uploads/2025/05/Yoga-playgroup-from-30-April-FB.png
ORGANIZER;CN="Flow and Grow Family Yoga":MAILTO:hello@antjeguenther.com
END:VEVENT
BEGIN:VEVENT
DTSTART;TZID=Australia/Adelaide:20250507T100000
DTEND;TZID=Australia/Adelaide:20250507T113000
DTSTAMP:20260425T022740
CREATED:20250505T043424Z
LAST-MODIFIED:20250505T043446Z
UID:10002247-1746612000-1746617400@yogaaustralia.org.au
SUMMARY:Family Yoga Playgroup
DESCRIPTION:Yoga Playgroup for Parents and Little Movers\nWho is this for?\nThis yoga playgroup is designed for mums\, dads\, and other caregivers with babies who are crawling\, toddling\, or walking — perfect for those who have become too wriggly for traditional mums & bubs yoga classes! 😊 It is also a fun and inclusive space for toddlers and preschool-aged children to move\, play\, and explore. ✨ \nWhat to expect? \nWe’ll begin with a slow and gentle start as we settle into the space\, followed by: \n\nWelcome songs to help everyone feel at ease. 🎶\nYogasana-based movement (postures) and pranayama (breathing exercises) for grown-ups to stretch\, move\, and possibly even relax a little. 😄\nOpportunities for children to join in the movement if they feel like it\, making it an interactive experience for all. 🧘‍♀️👶\nA little sprinkle of yoga philosophy to support your parenting journey. 📿📜\nA story to nourish the imagination and bring a calm end to our session. 📚✨\nA goodbye song to close the session\, followed by herbal tea for a soothing finish and the chance to connect with other parents and caregivers. 🫖\n\nThis is a wonderful opportunity for parents to nourish themselves while sharing meaningful moments with their little ones. You’ll leave feeling refreshed\, energised and connected! 🌿💧✨ \nCome as you are – no previous yoga experience required 💖💙💚💛💜🧡
URL:https://yogaaustralia.org.au/event-course/family-yoga-playgroup/2025-05-07/
LOCATION:Maslin Beach Community Hall\, Parkway Drive\, Maslin Beach\, SA\, 5170\, Australia
CATEGORIES:Events
ATTACH;FMTTYPE=image/png:https://yogaaustralia.org.au/wp-content/uploads/2025/05/Yoga-playgroup-from-30-April-FB.png
ORGANIZER;CN="Flow and Grow Family Yoga":MAILTO:hello@antjeguenther.com
END:VEVENT
END:VCALENDAR