BEGIN:VCALENDAR
VERSION:2.0
PRODID:-//Yoga Australia - ECPv6.13.1//NONSGML v1.0//EN
CALSCALE:GREGORIAN
METHOD:PUBLISH
X-ORIGINAL-URL:https://yogaaustralia.org.au
X-WR-CALDESC:Events for Yoga Australia
REFRESH-INTERVAL;VALUE=DURATION:PT1H
X-Robots-Tag:noindex
X-PUBLISHED-TTL:PT1H
BEGIN:VTIMEZONE
TZID:Australia/Melbourne
BEGIN:STANDARD
TZOFFSETFROM:+1100
TZOFFSETTO:+1000
TZNAME:AEST
DTSTART:20240406T160000
END:STANDARD
BEGIN:DAYLIGHT
TZOFFSETFROM:+1000
TZOFFSETTO:+1100
TZNAME:AEDT
DTSTART:20241005T160000
END:DAYLIGHT
END:VTIMEZONE
BEGIN:VEVENT
DTSTART;TZID=Australia/Melbourne:20241214T100000
DTEND;TZID=Australia/Melbourne:20241214T150000
DTSTAMP:20260426T121238
CREATED:20241125T033948Z
LAST-MODIFIED:20241205T232337Z
UID:10001960-1734170400-1734188400@yogaaustralia.org.au
SUMMARY:Energy Flow mini fest
DESCRIPTION:Take some time out for YOU during our two day yoga immersion.\nWhether it is kids yoga\, a slow flow or perhaps some Kirtan or a Vinyassa there will be a variety of classes to suit every body. Our teachers are local and would love to share their experience and knowledge with you! If its your first yoga experience or your an experienced yogi this two day event is ready for you.Don’t forget Perth Hills Artesian market will be there over the two days and food trucks galore… so make a day or two of it !\nMundaring Arena\,50 Mundaring Weir road\,Mundaring\nlook for us at the top of the stairs\, front left of building!!!\nTICKETS*** Second release pre purchase now available through megatix.On the day ticket:cash or efpos available.$20.00 ea Individua classes$ 60.00 Day Passes (not including extra event)$ 80.00 Two full day passes ( not including special event)\n$35.00 Special Event passWith WAs best sound healer\, Julian Silburn on Saturday14 th\,4pm- 5.30pm.\n\n \n\n\nSATURDAY 14th\, December\, 2024 \nYIN Tent \n10.00am – 10.55am Intro to Vedic chant with Sally \n11.00am –11.55am Yoga Yin with Amanda \n12.00 Kids Yoga with Renee \n1.00pm – 1.55pm Pilates with Gaye/Bel \n2.00pm – 2.55pm Yoga Chair with Jackie \nYANG Tent \n10.00am – 10.55am Yoga Hatha with Rochelle \n1100am – 11.55am Breathwork with Teniele \n1.00pm – 1.55pm Yoga with JB from Stones Throw Yoga \n2.00pm – 2.55pm Yoga fusion with MAMA K \nTIME SPECIAL EVENT \n4.00pm – 5.30pm Sound Healing Julian Silburn \nSUNDAY 15\, December 2024 \nYIN Tent \n10.00am – 10.55am Yoga & Meditation with Jody \n11.00am – 11.55am Bhakti Yoga – Devotional singing with \nHelen \n12.15 – 12.50pm Drumming with RedMoon Healing \n1.00pm 1.55pm Yoga story with Sally \n2.00pm – 2.55pm Sound Healing with Anna \nYANG Tent \n10.00am – 10.55am Yoga Slow flow with Beth-Marie \n11.00am – 11.55am Yoga with Priyanka \n1.00pm – 1.55pm Yoga with Priyanka \n​​​​2.00pm – 2.55pm Pilates with Elaine \n\n\n \n\n\n\n \n\n\n\n\nLink for event Purchase:https://megatix.com.au/events/energy-flow-mini-fest\n \n\n \n\n\n\nMundaring\, Western Australia\, Australia\n\n\n\n\n\n\n\n\n\n\n\n\n\n\n\nMegatix tickets link:\n\n\n\n\n\n\n\nhttps://megatix.com.au/events/energy-flow-mini-fest?fbclid=IwY2xjawGnpbdleHRuA2FlbQIxMQABHenlNR2PVV6p7gLWeWJV7FSP5WM2yIOvKSQOrL82W0wA0tkvkc0jksAyYQ_aem_-MsYWJ_Dx6Y9FYMi6sPi0A
URL:https://yogaaustralia.org.au/event-course/energy-flow-mini-fest/2024-12-14/
LOCATION:Mundaring Arena\, 50 Mundaring Weir\, road\, Perth\, WA
CATEGORIES:Events
ATTACH;FMTTYPE=image/jpeg:https://yogaaustralia.org.au/wp-content/uploads/2024/11/Energy-Flow-nini-fest-logo.jpg
END:VEVENT
END:VCALENDAR