BEGIN:VCALENDAR
VERSION:2.0
PRODID:-//Yoga Australia - ECPv6.13.1//NONSGML v1.0//EN
CALSCALE:GREGORIAN
METHOD:PUBLISH
X-ORIGINAL-URL:https://yogaaustralia.org.au
X-WR-CALDESC:Events for Yoga Australia
REFRESH-INTERVAL;VALUE=DURATION:PT1H
X-Robots-Tag:noindex
X-PUBLISHED-TTL:PT1H
BEGIN:VTIMEZONE
TZID:Australia/Melbourne
BEGIN:STANDARD
TZOFFSETFROM:+1100
TZOFFSETTO:+1000
TZNAME:AEST
DTSTART:20240406T160000
END:STANDARD
BEGIN:DAYLIGHT
TZOFFSETFROM:+1000
TZOFFSETTO:+1100
TZNAME:AEDT
DTSTART:20241005T160000
END:DAYLIGHT
END:VTIMEZONE
BEGIN:VEVENT
DTSTART;TZID=Australia/Melbourne:20240824T130000
DTEND;TZID=Australia/Melbourne:20240824T150000
DTSTAMP:20260425T033540
CREATED:20240802T022549Z
LAST-MODIFIED:20240805T013504Z
UID:10001578-1724504400-1724511600@yogaaustralia.org.au
SUMMARY:Ayurveda Nutrition for Wellness Workshop
DESCRIPTION:LEARN ABOUT TRADITIONAL AYURVEDIC REMEDIES FOR OPTIMAL HEALTH IN WINTER\nDO YOU: \n\n\nFeel run down and exhausted? \n\n\nSeem to catch every cold and virus going around? \n\n\nStruggle to get warm? \n\n\nHave dry skin or experience constipation in winter? \n\n\nJoin us for a 2 hour workshop with qualified Nutritionist and Yoga Teacher\, Claire Evans \n\n\nLearn to make therapeutic herbal infused honey\, pastes and tea tonics \n\n\n\n\nGhee making demonstration \n\n\nAyurvedic guide for using herbs and spices for immune support and recipes \n\n\nIncludes samples to take home \n\n\nInvestment:\n$75 non-members\n$65 members on unlimited passes\, excl intro pass and 1 month unlimited (please contact us for discount code) \nVisit www.soulseedyoga.com.au to book and for details.
URL:https://yogaaustralia.org.au/event-course/ayurveda-nutrition-for-wellness-workshop/
LOCATION:Soul Seed Yoga\, Mentone VIC 3194\, 137B Mentone Parade\, Mentone\, Victoria\, 3194\, Australia
CATEGORIES:Events
ATTACH;FMTTYPE=image/png:https://yogaaustralia.org.au/wp-content/uploads/2024/08/Ayurveda-Nutrition-Wellness-Workshop-.png
END:VEVENT
END:VCALENDAR