BEGIN:VCALENDAR
VERSION:2.0
PRODID:-//Yoga Australia - ECPv6.13.1//NONSGML v1.0//EN
CALSCALE:GREGORIAN
METHOD:PUBLISH
X-ORIGINAL-URL:https://yogaaustralia.org.au
X-WR-CALDESC:Events for Yoga Australia
REFRESH-INTERVAL;VALUE=DURATION:PT1H
X-Robots-Tag:noindex
X-PUBLISHED-TTL:PT1H
BEGIN:VTIMEZONE
TZID:Australia/Melbourne
BEGIN:STANDARD
TZOFFSETFROM:+1100
TZOFFSETTO:+1000
TZNAME:AEST
DTSTART:20250405T160000
END:STANDARD
BEGIN:DAYLIGHT
TZOFFSETFROM:+1000
TZOFFSETTO:+1100
TZNAME:AEDT
DTSTART:20251004T160000
END:DAYLIGHT
BEGIN:STANDARD
TZOFFSETFROM:+1100
TZOFFSETTO:+1000
TZNAME:AEST
DTSTART:20260404T160000
END:STANDARD
BEGIN:DAYLIGHT
TZOFFSETFROM:+1000
TZOFFSETTO:+1100
TZNAME:AEDT
DTSTART:20261003T160000
END:DAYLIGHT
END:VTIMEZONE
BEGIN:VEVENT
DTSTART;TZID=Australia/Melbourne:20260117T130000
DTEND;TZID=Australia/Melbourne:20260117T160000
DTSTAMP:20260424T062914
CREATED:20251105T015549Z
LAST-MODIFIED:20251105T015553Z
UID:10002440-1768654800-1768665600@yogaaustralia.org.au
SUMMARY:Workshop: The back and Spine
DESCRIPTION:Workshop: The Back and Spine\n\nTo keep the back and spine healthy we look to understand its structure.  \n\n‘Bones\, the resident Yoga School skeleton will be assisting… you will be able to see and understand the spine’s structure and how it moves. Bones will explain the other bony structures of the body that form the 2 bridges or connections to the spine. 
URL:https://yogaaustralia.org.au/event-course/workshop-the-back-and-spine-2/
LOCATION:The Yoga School\, Cairns\, Piconne's Village\, Pease Street\, Cairns\, Qld\, 4870
CATEGORIES:Events
ORGANIZER;CN="Jan Watson":MAILTO:yogajan@yogac.com.au
END:VEVENT
BEGIN:VEVENT
DTSTART;TZID=Australia/Melbourne:20251104T080000
DTEND;TZID=Australia/Melbourne:20251104T170000
DTSTAMP:20260424T062914
CREATED:20251105T015335Z
LAST-MODIFIED:20251105T015339Z
UID:10002441-1762243200-1762275600@yogaaustralia.org.au
SUMMARY:Workshop: The back and Spine
DESCRIPTION:Workshop: The Back and Spine\n\nTo keep the back and spine healthy we look to understand its structure.  \n\n‘Bones\, the resident Yoga School skeleton will be assisting… you will be able to see and understand the spine’s structure and how it moves. Bones will explain the other bony structures of the body that form the 2 bridges or connections to the spine. 
URL:https://yogaaustralia.org.au/event-course/workshop-the-back-and-spine/
LOCATION:The Yoga School\, Cairns\, Piconne's Village\, Pease Street\, Cairns\, Qld\, 4870
CATEGORIES:Events
ATTACH;FMTTYPE=image/jpeg:https://yogaaustralia.org.au/wp-content/uploads/2025/11/Jpeg-spine-and-back-.jpg
ORGANIZER;CN="Jan Watson":MAILTO:yogajan@yogac.com.au
END:VEVENT
BEGIN:VEVENT
DTSTART;TZID=Australia/Melbourne:20250906T130000
DTEND;TZID=Australia/Melbourne:20250906T160000
DTSTAMP:20260424T062914
CREATED:20250825T010624Z
LAST-MODIFIED:20250825T010638Z
UID:10002374-1757163600-1757174400@yogaaustralia.org.au
SUMMARY:Precision and Alignment
DESCRIPTION:Precision and Alignment as taught by the Iyengar Yoga methodology.  The workshop is paced and allows time to explore actions of poses before moving on. It looks at the detail and gives instructions on what to move\, activate\, soften\, harden or release in each pose. We will be working on the hip joints and stretching the legs and stretching the arms and the shoulder joints.\n\nJan Watson is an Intermediate (JI 2) Iyengar Yoga Teacher.\n\n 
URL:https://yogaaustralia.org.au/event-course/precision-and-alignment/
LOCATION:The Yoga School\, Cairns\, Piconne's Village\, Pease Street\, Cairns\, Qld\, 4870
CATEGORIES:Events
ATTACH;FMTTYPE=image/jpeg:https://yogaaustralia.org.au/wp-content/uploads/2025/08/jpeg-flyer-ws-cairns-sept-25.jpg
ORGANIZER;CN="Jan Watson":MAILTO:yogajan@yogac.com.au
END:VEVENT
END:VCALENDAR