BEGIN:VCALENDAR
VERSION:2.0
PRODID:-//Yoga Australia - ECPv6.13.1//NONSGML v1.0//EN
CALSCALE:GREGORIAN
METHOD:PUBLISH
X-ORIGINAL-URL:https://yogaaustralia.org.au
X-WR-CALDESC:Events for Yoga Australia
REFRESH-INTERVAL;VALUE=DURATION:PT1H
X-Robots-Tag:noindex
X-PUBLISHED-TTL:PT1H
BEGIN:VTIMEZONE
TZID:Australia/Melbourne
BEGIN:STANDARD
TZOFFSETFROM:+1100
TZOFFSETTO:+1000
TZNAME:AEST
DTSTART:20230401T160000
END:STANDARD
BEGIN:DAYLIGHT
TZOFFSETFROM:+1000
TZOFFSETTO:+1100
TZNAME:AEDT
DTSTART:20230930T160000
END:DAYLIGHT
BEGIN:STANDARD
TZOFFSETFROM:+1100
TZOFFSETTO:+1000
TZNAME:AEST
DTSTART:20240406T160000
END:STANDARD
BEGIN:DAYLIGHT
TZOFFSETFROM:+1000
TZOFFSETTO:+1100
TZNAME:AEDT
DTSTART:20241005T160000
END:DAYLIGHT
END:VTIMEZONE
BEGIN:VEVENT
DTSTART;TZID=Australia/Melbourne:20240601T083000
DTEND;TZID=Australia/Melbourne:20240601T103000
DTSTAMP:20260425T104029
CREATED:20240130T225056Z
LAST-MODIFIED:20240130T225101Z
UID:10000832-1717230600-1717237800@yogaaustralia.org.au
SUMMARY:FREE Yoga & Beach Clean Up ~ JUN 2024
DESCRIPTION:Join Jala Yoga for a morning of Yoga\, followed by a beach clean up.\n\nThe Yoga class will be led by a Qualified Yoga Teacher and Graduate of the Jala Yoga 350hr Teacher Training\, and is suited for anyone above the age of 13 years old.\n\nYou will find us to the north of the SLSC. Look for the Jala Yoga A-Frame board near the path and our happy smiley Jala Yoga teacher.\nThis event is FREE as part of the Gold Coast City Council Active & Healthy Program.\n\nRegistrations are essential. If you book a space\, and cannot attend\, please email admin@jalayoga.co to inform the organisers.\n\nRegister Here
URL:https://yogaaustralia.org.au/event-course/free-yoga-beach-clean-up-jun-2024/
LOCATION:Tugun surf Lifesaving Club\, Queensland\, Australia
CATEGORIES:Events
ATTACH;FMTTYPE=image/jpeg:https://yogaaustralia.org.au/wp-content/uploads/2024/01/Jala-Yoga-Beach-Clean-Up-2.jpeg
GEO:-22.575197;144.0847926
END:VEVENT
BEGIN:VEVENT
DTSTART;TZID=Australia/Melbourne:20240406T083000
DTEND;TZID=Australia/Melbourne:20240406T103000
DTSTAMP:20260425T104029
CREATED:20240130T225254Z
LAST-MODIFIED:20240130T225259Z
UID:10000831-1712392200-1712399400@yogaaustralia.org.au
SUMMARY:FREE Yoga & Beach Clean Up ~ APR 2024
DESCRIPTION:Join Jala Yoga for a morning of Yoga\, followed by a beach clean up.\n\nThe Yoga class will be led by a Qualified Yoga Teacher and Graduate of the Jala Yoga 350hr Teacher Training\, and is suited for anyone above the age of 13 years old.\n\nYou will find us to the north of the SLSC. Look for the Jala Yoga A-Frame board near the path and our happy smiley Jala Yoga teacher.\nThis event is FREE as part of the Gold Coast City Council Active & Healthy Program.\n\nRegistrations are essential. If you book a space\, and cannot attend\, please email admin@jalayoga.co to inform the organisers.\n\nRegister Here
URL:https://yogaaustralia.org.au/event-course/free-yoga-beach-clean-up-apr-2024/
LOCATION:Tugun surf Lifesaving Club\, Queensland\, Australia
CATEGORIES:Events
ATTACH;FMTTYPE=image/jpeg:https://yogaaustralia.org.au/wp-content/uploads/2024/01/Jala-Yoga-Beach-Clean-Up-1.jpeg
GEO:-22.575197;144.0847926
END:VEVENT
BEGIN:VEVENT
DTSTART;TZID=Australia/Melbourne:20240210T083000
DTEND;TZID=Australia/Melbourne:20240210T103000
DTSTAMP:20260425T104029
CREATED:20240130T225340Z
LAST-MODIFIED:20240130T225345Z
UID:10000830-1707553800-1707561000@yogaaustralia.org.au
SUMMARY:FREE Yoga & Beach Clean Up ~ FEB 2024
DESCRIPTION:Join Jala Yoga for a morning of Yoga\, followed by a beach clean up.\n\nThe Yoga class will be led by a Qualified Yoga Teacher and Graduate of the Jala Yoga 350hr Teacher Training\, and is suited for anyone above the age of 13 years old.\n\nYou will find us to the north of the SLSC. Look for the Jala Yoga A-Frame board near the path and our happy smiley Jala Yoga teacher.\n\nThis event is FREE as part of the Gold Coast City Council Active & Healthy Program.\n\nRegistrations are essential. If you book a space\, and cannot attend\, please email admin@jalayoga.co to inform the organisers.\n\nRegister Here
URL:https://yogaaustralia.org.au/event-course/free-yoga-beach-clean-up-feb-2024/
LOCATION:Tugun surf Lifesaving Club\, Queensland\, Australia
CATEGORIES:Events
ATTACH;FMTTYPE=image/jpeg:https://yogaaustralia.org.au/wp-content/uploads/2024/01/Jala-Yoga-Beach-Clean-Up.jpeg
GEO:-22.575197;144.0847926
END:VEVENT
BEGIN:VEVENT
DTSTART;TZID=Australia/Melbourne:20231202T083000
DTEND;TZID=Australia/Melbourne:20231202T103000
DTSTAMP:20260425T104029
CREATED:20231117T012052Z
LAST-MODIFIED:20231117T012057Z
UID:10000702-1701505800-1701513000@yogaaustralia.org.au
SUMMARY:FREE Yoga & Beach Clean Up - December 2023
DESCRIPTION:Join Jala Yoga for a morning of Yoga\, followed by a beach clean up. \nThe Yoga class will be led by a Qualified Yoga Teacher and Graduate of the Jala Yoga 350hr Teacher Training\, and is suited for anyone above the age of 13 years old. \nYou will find us to the north of the SLSC. Look for the Jala Yoga A-Frame board near the path and our happy smiley Jala Yoga teacher. \nThis event is FREE as part of the Active & Healthy Program.
URL:https://yogaaustralia.org.au/event-course/free-yoga-beach-clean-up-december-2023/
LOCATION:Tugun surf Lifesaving Club\, Queensland\, Australia
CATEGORIES:Events
ATTACH;FMTTYPE=image/jpeg:https://yogaaustralia.org.au/wp-content/uploads/2023/11/IMG_2155-1-scaled.jpg
GEO:-22.575197;144.0847926
END:VEVENT
END:VCALENDAR