BEGIN:VCALENDAR
VERSION:2.0
PRODID:-//Yoga Australia - ECPv6.13.1//NONSGML v1.0//EN
CALSCALE:GREGORIAN
METHOD:PUBLISH
X-WR-CALNAME:Yoga Australia
X-ORIGINAL-URL:https://yogaaustralia.org.au
X-WR-CALDESC:Events for Yoga Australia
REFRESH-INTERVAL;VALUE=DURATION:PT1H
X-Robots-Tag:noindex
X-PUBLISHED-TTL:PT1H
BEGIN:VTIMEZONE
TZID:Australia/Melbourne
BEGIN:STANDARD
TZOFFSETFROM:+1100
TZOFFSETTO:+1000
TZNAME:AEST
DTSTART:20260404T160000
END:STANDARD
BEGIN:DAYLIGHT
TZOFFSETFROM:+1000
TZOFFSETTO:+1100
TZNAME:AEDT
DTSTART:20261003T160000
END:DAYLIGHT
END:VTIMEZONE
BEGIN:VEVENT
DTSTART;TZID=Australia/Melbourne:20260402T180000
DTEND;TZID=Australia/Melbourne:20260406T120000
DTSTAMP:20260423T082949
CREATED:20260111T221353Z
LAST-MODIFIED:20260111T221356Z
UID:10002585-1775152800-1775476800@yogaaustralia.org.au
SUMMARY:Yoga & Ayurveda Easter Retreat
DESCRIPTION:The Still Point: Finding Balance in Times of Transition\n\n\n\n\nBetween what has been and what’s ahead\, there is a place of calm.\n\n\n\n\nJoin us for a weekend retreat using yoga\, meditation and Ayurveda to create space\, clarity and inner balance.\n\n\n\n\n\n\n\n 	beautiful surrounds near the beach\n\n\n\n\n\n\n 	conversations\, teachings & experiences\n\n\n\n\n\n\n 	daily yoga & meditation\n\n\n\n\n\n\nall inclusive of accommodation\, meals & the program\n\nEaster Weekend 2 – 6 April\, 2026\n\n\n\n\n\n\nWyngarra\, Kilcunda VIC\n\n\n\n\n\n\nwww.shantispace.com.au
URL:https://yogaaustralia.org.au/event-course/yoga-ayurveda-easter-retreat/
LOCATION:Wyngarra\, 3965 Bass Hwy\, Kilcunda\, VIC\, 3995\, Australia
CATEGORIES:Events
ATTACH;FMTTYPE=image/png:https://yogaaustralia.org.au/wp-content/uploads/2026/01/TERM-1-3.png
ORGANIZER;CN="Larissa Gita Azar":MAILTO:melbourne@yogaindailylife.org
END:VEVENT
END:VCALENDAR